BEGIN:VCALENDAR
VERSION:2.0
PRODID:-//Virginia Career Works Piedmont Region - ECPv6.15.20//NONSGML v1.0//EN
CALSCALE:GREGORIAN
METHOD:PUBLISH
X-ORIGINAL-URL:https://vcwpiedmont.com
X-WR-CALDESC:Events for Virginia Career Works Piedmont Region
REFRESH-INTERVAL;VALUE=DURATION:PT1H
X-Robots-Tag:noindex
X-PUBLISHED-TTL:PT1H
BEGIN:VTIMEZONE
TZID:America/New_York
BEGIN:DAYLIGHT
TZOFFSETFROM:-0500
TZOFFSETTO:-0400
TZNAME:EDT
DTSTART:20240310T070000
END:DAYLIGHT
BEGIN:STANDARD
TZOFFSETFROM:-0400
TZOFFSETTO:-0500
TZNAME:EST
DTSTART:20241103T060000
END:STANDARD
BEGIN:DAYLIGHT
TZOFFSETFROM:-0500
TZOFFSETTO:-0400
TZNAME:EDT
DTSTART:20250309T070000
END:DAYLIGHT
BEGIN:STANDARD
TZOFFSETFROM:-0400
TZOFFSETTO:-0500
TZNAME:EST
DTSTART:20251102T060000
END:STANDARD
BEGIN:DAYLIGHT
TZOFFSETFROM:-0500
TZOFFSETTO:-0400
TZNAME:EDT
DTSTART:20260308T070000
END:DAYLIGHT
BEGIN:STANDARD
TZOFFSETFROM:-0400
TZOFFSETTO:-0500
TZNAME:EST
DTSTART:20261101T060000
END:STANDARD
END:VTIMEZONE
BEGIN:VEVENT
DTSTART;TZID=America/New_York:20250410T083000
DTEND;TZID=America/New_York:20250410T083000
DTSTAMP:20260420T072252
CREATED:20250401T191112Z
LAST-MODIFIED:20250402T151457Z
UID:24299-1744273800-1744273800@vcwpiedmont.com
SUMMARY:Outreach: Wilderness Library
DESCRIPTION:Orange Workforce Services Available FREE of Charge!\nWalk-ins or appointments available at the location of your choosing!\n?? (540) 212-4570\, option 3\nTuesdays – Thursdays from 8:30 AM – 4 PM \nTuesdays: Orange County Library\nWednesdays: Gordonsville Library\nThursdays: Wilderness Library\nFor Job Seekers: \nCareer Advancement\nJob Leads by Industry\nResume Writing Assistance\nInterview Preparation\nConnections to Local Employers\nCareer Pathway Initiatives\nFunding for Training\nFor Employers: \nPost Job Openings\nOn-site Recruitment\nHiring Events\nLabor Market Information\nEmployee Development\nContact Information: \nEmail: info@vcwpiedmont.com\nPhone: 434.979.5610\nThe Virginia Career Works – Piedmont Region is an equal opportunity employer/program. Auxiliary aids and services are available upon request to individuals with disabilities. TDD-VA Relay: 711. Interpreters are available upon request. EO Officer.
URL:https://vcwpiedmont.com/event/outreach-wilderness-librarylibrary-2/
LOCATION:Wilderness Library\, 6421 Flat Run Road\, Locust Grove\, VA\, 22508\, United States
CATEGORIES:Community Event
ORGANIZER;CN="Jason Ford":MAILTO:jason.ford@fredgoodwill.org
END:VEVENT
BEGIN:VEVENT
DTSTART;TZID=America/New_York:20250410T093000
DTEND;TZID=America/New_York:20250410T113000
DTSTAMP:20260420T072252
CREATED:20250327T160928Z
LAST-MODIFIED:20250327T163328Z
UID:24249-1744277400-1744284600@vcwpiedmont.com
SUMMARY:UVA Apprenticeship Skilled Trades Job Fair
DESCRIPTION:🚀 Join the UVA Apprenticeship Skilled Trades Job Fair! 🚀 \nLooking to start a career in skilled trades? No experience required! This is your chance to connect with local employers and explore apprenticeships and other entry-level programs that can kickstart your career. Don’t miss out! \n📅 Date: Thursday\, April 10\n🕒 Time: 9:30-11:30 AM\n📍 Location: UVA Alumni Hall\, 211 Emmet Street S.\, Charlottesville\, VA \nFeaturing: \n\nUVA Apprenticeship Program apprentices & on-the-job trainers – Learn about the experience from current apprentices! Bring your questions about the classes for instructors.\nOther local employers hiring apprentices & entry-level positions.\nLocal workforce services\n\nLearn a trade\, earn skills & benefits\, and advance in your career! Click here to sign up to receive email updates about this event. \nDownload the Flyer
URL:https://vcwpiedmont.com/event/uva-apprenticeship-skilled-trades-job-fair/
LOCATION:UVA Alumni Hall\, 211 Emmet Street South\, Charlottesville\, VA\, 22903\, United States
CATEGORIES:Community Event,Job Fairs
ATTACH;FMTTYPE=image/png:https://vcwpiedmont.com/wp-content/uploads/UVA-Apprenticeship_041025.webp
END:VEVENT
BEGIN:VEVENT
DTSTART;TZID=America/New_York:20250410T100000
DTEND;TZID=America/New_York:20250410T120000
DTSTAMP:20260420T072252
CREATED:20250226T180931Z
LAST-MODIFIED:20250226T181406Z
UID:24029-1744279200-1744286400@vcwpiedmont.com
SUMMARY:Second Chance Month Virtual Series
DESCRIPTION:Join us in celebrating National Second Chance Month with a special four-part virtual series hosted by the Virginia Department of Corrections. This series is designed to provide valuable resources and information to support the reentry process for the criminal justice population. \nEvent Details: \n\nDates: Every Thursday in April\nTime: 10:00 AM – 12:00 PM\nLocation: Zoom – Registration not necessary.\n\nEach session will feature presentations from various state agencies and community partners\, offering insights and resources relevant to reentry. This series is ideal for organizations and partners working in the field of reentry\, as well as family and friends of individuals transitioning back to the community. \nWhy Attend? \n\nGain access to important resources and information\nConnect with state agencies and community partners\nSupport the reentry process for individuals in the criminal justice system\n\nDon’t miss this opportunity to learn and connect with others dedicated to making a difference. For more information\, please refer to the flyer.
URL:https://vcwpiedmont.com/event/second-chance-month-virtual-series-2/
CATEGORIES:Community Event
ATTACH;FMTTYPE=image/png:https://vcwpiedmont.com/wp-content/uploads/RECOGN1.webp
END:VEVENT
BEGIN:VEVENT
DTSTART;TZID=America/New_York:20250410T100000
DTEND;TZID=America/New_York:20250410T140000
DTSTAMP:20260420T072252
CREATED:20250319T151211Z
LAST-MODIFIED:20250319T151211Z
UID:24222-1744279200-1744293600@vcwpiedmont.com
SUMMARY:Job Fair – Pathways to Success
DESCRIPTION:Job Fair – Pathways to Success\nThursday\, April 10\, 10:00 AM to 2:00 PM \nCarver Recreation Center (233 4th St. NW\, Charlottesville\, VA 22903) \n\nLearn about JOB OPPORTUNITIES* available in the Charlottesville area for community members who have been impacted by the justice system.\nNETWORK face-to-face with recruiters and hiring managers from a variety of industries.\nGet assistance to APPLY FOR JOBS ONSITE and learn about other career services to help you on your employment journey.\nGet a free PROFESSIONAL HEADSHOT to upgrade your online image.\nThis event is intended to serve our local reentry community but is FREE AND OPEN TO THE PUBLIC. NO ATTENDEE REGISTRATION REQUIRED.\n\nDownload the flyer. \n* Does your company have employment opportunities to share with the local reentry community? Register to participate as an employer… it’s FREE!
URL:https://vcwpiedmont.com/event/job-fair-pathways-to-success/
LOCATION:Carver Recreation Center\, 233 4th Street SW\, Charlottesville\, VA\, United States
CATEGORIES:Community Event,Job Fairs
ORGANIZER;CN="UVA Pipelines & Pathways":MAILTO:uvapipelines@virginia.edu
END:VEVENT
BEGIN:VEVENT
DTSTART;TZID=America/New_York:20250410T140000
DTEND;TZID=America/New_York:20250410T153000
DTSTAMP:20260420T072252
CREATED:20250408T171125Z
LAST-MODIFIED:20250408T171218Z
UID:24328-1744293600-1744299000@vcwpiedmont.com
SUMMARY:GO Cook Graduation: Culinary Concepts AB
DESCRIPTION:
URL:https://vcwpiedmont.com/event/go-cook-graduation-culinary-concepts/
LOCATION:City Space\, 100 Fifth St NE\, Charlottesville\, VA\, 22902\, United States
CATEGORIES:Community Event
ATTACH;FMTTYPE=image/jpeg:https://vcwpiedmont.com/wp-content/uploads/485815539_1276605224465449_620066498069523845_n.webp
ORGANIZER;CN="Culinary Concepts AB":MAILTO:info@culinaryconceptsab.com
END:VEVENT
BEGIN:VEVENT
DTSTART;TZID=America/New_York:20250410T150000
DTEND;TZID=America/New_York:20250410T160000
DTSTAMP:20260420T072252
CREATED:20250401T191019Z
LAST-MODIFIED:20250401T191019Z
UID:24287-1744297200-1744300800@vcwpiedmont.com
SUMMARY:WIOA Orientation
DESCRIPTION:The Workforce Innovation and Opportunity Act (WIOA) Adult Program offers orientation sessions to help eligible adults find jobs through training and job search assistance:\nWhat to expect\nWIOA orientation sessions provide an overview of the program\, including the resources and benefits available to participants.\nWho is eligible\nThe WIOA Adult Program is for unemployed or underemployed adults 18 and older\, or those who are considered dislocated workers.\nWIOA offers a range of services\, including:\n•	Career services\, such as resume assistance and interview skills\n•	Job search support\n•	Training services\, such as occupational skills training and on-the-job training\n•	Supportive services\, such as help with background checks\, transportation\, and child care\nFor Workshop enrollment assistance: Email brookes.sims@fredgoodwill.org or call 434-529-6828 TDD: VA Relay Center: 711
URL:https://vcwpiedmont.com/event/wioa-orientation-15/
CATEGORIES:WIOA Orientation
ORGANIZER;CN="Brookes Sims RGI":MAILTO:brookes.sims@fredgoodwill.org
END:VEVENT
BEGIN:VEVENT
DTSTART;TZID=America/New_York:20250410T160000
DTEND;TZID=America/New_York:20250410T190000
DTSTAMP:20260420T072252
CREATED:20250313T154728Z
LAST-MODIFIED:20250313T154728Z
UID:24169-1744300800-1744311600@vcwpiedmont.com
SUMMARY:Trades Open House
DESCRIPTION:These FREE open house events will introduce you to a variety of fast-track\, career-training trades professions. Whether you are planning to register for an upcoming class or are on the fence about your next career step\, come and join us to gain more information. This can be the first step toward an exciting\, challenging\, and rewarding career in the trades. \nLearn more about:\n\nHVAC Courses\nPlumbing Courses\nElectrical Courses\nHeavy Equipment Operator Training\nConstruction Project Management\nFiber Technician Program\nMechatronics Program\nWelding Courses\nApprenticeship\nFunding Options And More\n\n\n\nTrades Open House\nApril 10 @ 4:00 pm – 7:00 pm \nLaurel Ridge Fauquier Campus \n 6480 College Street\nWarrenton\, VA 20187 United States
URL:https://vcwpiedmont.com/event/trades-open-house/
LOCATION:Laurel Ridge Community College Fauquier Campus\, 6480 College St.\, Warrenton\, VA\, United States
CATEGORIES:Open House
ATTACH;FMTTYPE=image/png:https://vcwpiedmont.com/wp-content/uploads/LRCC-Open-House_04.25.webp
END:VEVENT
END:VCALENDAR