BEGIN:VCALENDAR
VERSION:2.0
PRODID:-//Virginia Career Works Piedmont Region - ECPv6.15.20//NONSGML v1.0//EN
CALSCALE:GREGORIAN
METHOD:PUBLISH
X-ORIGINAL-URL:https://vcwpiedmont.com
X-WR-CALDESC:Events for Virginia Career Works Piedmont Region
REFRESH-INTERVAL;VALUE=DURATION:PT1H
X-Robots-Tag:noindex
X-PUBLISHED-TTL:PT1H
BEGIN:VTIMEZONE
TZID:America/New_York
BEGIN:DAYLIGHT
TZOFFSETFROM:-0500
TZOFFSETTO:-0400
TZNAME:EDT
DTSTART:20240310T070000
END:DAYLIGHT
BEGIN:STANDARD
TZOFFSETFROM:-0400
TZOFFSETTO:-0500
TZNAME:EST
DTSTART:20241103T060000
END:STANDARD
BEGIN:DAYLIGHT
TZOFFSETFROM:-0500
TZOFFSETTO:-0400
TZNAME:EDT
DTSTART:20250309T070000
END:DAYLIGHT
BEGIN:STANDARD
TZOFFSETFROM:-0400
TZOFFSETTO:-0500
TZNAME:EST
DTSTART:20251102T060000
END:STANDARD
BEGIN:DAYLIGHT
TZOFFSETFROM:-0500
TZOFFSETTO:-0400
TZNAME:EDT
DTSTART:20260308T070000
END:DAYLIGHT
BEGIN:STANDARD
TZOFFSETFROM:-0400
TZOFFSETTO:-0500
TZNAME:EST
DTSTART:20261101T060000
END:STANDARD
END:VTIMEZONE
BEGIN:VEVENT
DTSTART;TZID=America/New_York:20250417T083000
DTEND;TZID=America/New_York:20250417T083000
DTSTAMP:20260421T170251
CREATED:20250401T191207Z
LAST-MODIFIED:20250402T151442Z
UID:24302-1744878600-1744878600@vcwpiedmont.com
SUMMARY:Outreach: Wilderness Library
DESCRIPTION:Orange Workforce Services Available FREE of Charge!\nWalk-ins or appointments available at the location of your choosing!\n?? (540) 212-4570\, option 3\nTuesdays – Thursdays from 8:30 AM – 4 PM \nTuesdays: Orange County Library\nWednesdays: Gordonsville Library\nThursdays: Wilderness Library\nFor Job Seekers: \nCareer Advancement\nJob Leads by Industry\nResume Writing Assistance\nInterview Preparation\nConnections to Local Employers\nCareer Pathway Initiatives\nFunding for Training\nFor Employers: \nPost Job Openings\nOn-site Recruitment\nHiring Events\nLabor Market Information\nEmployee Development\nContact Information: \nEmail: info@vcwpiedmont.com\nPhone: 434.979.5610\nThe Virginia Career Works – Piedmont Region is an equal opportunity employer/program. Auxiliary aids and services are available upon request to individuals with disabilities. TDD-VA Relay: 711. Interpreters are available upon request. EO Officer.
URL:https://vcwpiedmont.com/event/outreach-wilderness-librarylibrary-3/
LOCATION:Wilderness Library\, 6421 Flat Run Road\, Locust Grove\, VA\, 22508\, United States
CATEGORIES:Community Event
ORGANIZER;CN="Jason Ford":MAILTO:jason.ford@fredgoodwill.org
END:VEVENT
BEGIN:VEVENT
DTSTART;TZID=America/New_York:20250417T100000
DTEND;TZID=America/New_York:20250417T120000
DTSTAMP:20260421T170251
CREATED:20250226T180933Z
LAST-MODIFIED:20250226T181306Z
UID:24030-1744884000-1744891200@vcwpiedmont.com
SUMMARY:Second Chance Month Virtual Series
DESCRIPTION:Join us in celebrating National Second Chance Month with a special four-part virtual series hosted by the Virginia Department of Corrections. This series is designed to provide valuable resources and information to support the reentry process for the criminal justice population. \nEvent Details: \n\nDates: Every Thursday in April\nTime: 10:00 AM – 12:00 PM\nLocation: Zoom – Registration not necessary.\n\nEach session will feature presentations from various state agencies and community partners\, offering insights and resources relevant to reentry. This series is ideal for organizations and partners working in the field of reentry\, as well as family and friends of individuals transitioning back to the community. \nWhy Attend? \n\nGain access to important resources and information\nConnect with state agencies and community partners\nSupport the reentry process for individuals in the criminal justice system\n\nDon’t miss this opportunity to learn and connect with others dedicated to making a difference. For more information\, please refer to the flyer.
URL:https://vcwpiedmont.com/event/second-chance-month-virtual-series-3/
CATEGORIES:Community Event
ATTACH;FMTTYPE=image/png:https://vcwpiedmont.com/wp-content/uploads/RECOGN1.webp
END:VEVENT
BEGIN:VEVENT
DTSTART;TZID=America/New_York:20250417T100000
DTEND;TZID=America/New_York:20250417T130000
DTSTAMP:20260421T170251
CREATED:20250401T191056Z
LAST-MODIFIED:20250401T191056Z
UID:24292-1744884000-1744894800@vcwpiedmont.com
SUMMARY:UVA Temps Hiring Event
DESCRIPTION:For assistance: Email brookes.sims@fredgoodwill.org or call 434-529-6828 TDD: VA Relay Center: 711
URL:https://vcwpiedmont.com/event/uva-temps-hiring-event-6/
CATEGORIES:Hiring Event
ORGANIZER;CN="Brookes Sims RGI":MAILTO:brookes.sims@fredgoodwill.org
END:VEVENT
BEGIN:VEVENT
DTSTART;TZID=America/New_York:20250417T150000
DTEND;TZID=America/New_York:20250417T153000
DTSTAMP:20260421T170251
CREATED:20250401T191020Z
LAST-MODIFIED:20250401T191020Z
UID:24288-1744902000-1744903800@vcwpiedmont.com
SUMMARY:WIOA Orientation
DESCRIPTION:The Workforce Innovation and Opportunity Act (WIOA) Adult Program offers orientation sessions to help eligible adults find jobs through training and job search assistance:\nWhat to expect\nWIOA orientation sessions provide an overview of the program\, including the resources and benefits available to participants.\nWho is eligible\nThe WIOA Adult Program is for unemployed or underemployed adults 18 and older\, or those who are considered dislocated workers.\nWIOA offers a range of services\, including:\n•	Career services\, such as resume assistance and interview skills\n•	Job search support\n•	Training services\, such as occupational skills training and on-the-job training\n•	Supportive services\, such as help with background checks\, transportation\, and child care\nFor Workshop enrollment assistance: Email brookes.sims@fredgoodwill.org or call 434-529-6828 TDD: VA Relay Center: 711
URL:https://vcwpiedmont.com/event/wioa-orientation-16/
CATEGORIES:WIOA Orientation
ORGANIZER;CN="Brookes Sims RGI":MAILTO:brookes.sims@fredgoodwill.org
END:VEVENT
BEGIN:VEVENT
DTSTART;TZID=America/New_York:20250417T183000
DTEND;TZID=America/New_York:20250417T200000
DTSTAMP:20260421T170251
CREATED:20250410T161245Z
LAST-MODIFIED:20250410T161339Z
UID:24387-1744914600-1744920000@vcwpiedmont.com
SUMMARY:Diversifying Streams of Income on the Farm: Zoom
DESCRIPTION:
URL:https://vcwpiedmont.com/event/diversifying-streams-of-income-on-the-farm-zoom/
LOCATION:Zoom Event\, VA\, United States
CATEGORIES:Community Event,Workshops
END:VEVENT
END:VCALENDAR