BEGIN:VCALENDAR
VERSION:2.0
PRODID:-//Virginia Career Works Piedmont Region - ECPv6.15.20//NONSGML v1.0//EN
CALSCALE:GREGORIAN
METHOD:PUBLISH
X-WR-CALNAME:Virginia Career Works Piedmont Region
X-ORIGINAL-URL:https://vcwpiedmont.com
X-WR-CALDESC:Events for Virginia Career Works Piedmont Region
REFRESH-INTERVAL;VALUE=DURATION:PT1H
X-Robots-Tag:noindex
X-PUBLISHED-TTL:PT1H
BEGIN:VTIMEZONE
TZID:America/New_York
BEGIN:DAYLIGHT
TZOFFSETFROM:-0500
TZOFFSETTO:-0400
TZNAME:EDT
DTSTART:20240310T070000
END:DAYLIGHT
BEGIN:STANDARD
TZOFFSETFROM:-0400
TZOFFSETTO:-0500
TZNAME:EST
DTSTART:20241103T060000
END:STANDARD
BEGIN:DAYLIGHT
TZOFFSETFROM:-0500
TZOFFSETTO:-0400
TZNAME:EDT
DTSTART:20250309T070000
END:DAYLIGHT
BEGIN:STANDARD
TZOFFSETFROM:-0400
TZOFFSETTO:-0500
TZNAME:EST
DTSTART:20251102T060000
END:STANDARD
BEGIN:DAYLIGHT
TZOFFSETFROM:-0500
TZOFFSETTO:-0400
TZNAME:EDT
DTSTART:20260308T070000
END:DAYLIGHT
BEGIN:STANDARD
TZOFFSETFROM:-0400
TZOFFSETTO:-0500
TZNAME:EST
DTSTART:20261101T060000
END:STANDARD
END:VTIMEZONE
BEGIN:VEVENT
DTSTART;TZID=America/New_York:20250507T080000
DTEND;TZID=America/New_York:20250507T170000
DTSTAMP:20260419T193854
CREATED:20250507T150723Z
LAST-MODIFIED:20250507T150723Z
UID:24538-1746604800-1746637200@vcwpiedmont.com
SUMMARY:Library Outreach (Madison)
DESCRIPTION:
URL:https://vcwpiedmont.com/event/library-outreach-madison-2/
LOCATION:Madison County Library\, 402 N Main St.\, Madison\, VA\, 22727\, United States
CATEGORIES:Pop Up Event
ATTACH;FMTTYPE=image/png:https://vcwpiedmont.com/wp-content/uploads/Madison.webp
ORGANIZER;CN="Jason Ford":MAILTO:jason.ford@fredgoodwill.org
END:VEVENT
BEGIN:VEVENT
DTSTART;TZID=America/New_York:20250507T100000
DTEND;TZID=America/New_York:20250507T120000
DTSTAMP:20260419T193854
CREATED:20250430T180352Z
LAST-MODIFIED:20250430T180352Z
UID:24452-1746612000-1746619200@vcwpiedmont.com
SUMMARY:Info Session: Ready to Work & GO Cook
DESCRIPTION:📢 Join the Charlottesville Office of Economic Development for Their Next Info Session! 📢 \nLearn more about the Ready to Work and GO Cook programs\, which provide jobseekers the opportunity to earn a certificate and get connected to employers for job placement. 🌟 \n🗓️ Date: Wednesday\, May 7\, 2025\n🕙 Time Options: \n\n10 AM – Noon at VCW Charlottesville Center\n2 PM – 3 PM at Downtown Job Center\n\nBoth sessions offer the same valuable information\, so choose the time that works best for you! \n🔗 Register Here: https://form.jotform.com/CvilleEcoDev/info-session \nDon’t miss this chance to advance your career and connect with potential employers! 💼 \n 
URL:https://vcwpiedmont.com/event/info-session-ready-to-work-go-cook/
LOCATION:Virginia Career Works – Charlottesville Center\, 944 Glenwood Station Lane\, Suite 103\, Charlottesville\, VA\, 22901\, United States
CATEGORIES:Community Event,Workshops
ATTACH;FMTTYPE=image/png:https://vcwpiedmont.com/wp-content/uploads/Info-Sessions-social-post.webp
ORGANIZER;CN="City of Charlottesville Office of Economic Development":MAILTO:bichej@charlottesville.gov
END:VEVENT
BEGIN:VEVENT
DTSTART;TZID=America/New_York:20250507T100000
DTEND;TZID=America/New_York:20250507T120000
DTSTAMP:20260419T193854
CREATED:20250501T174904Z
LAST-MODIFIED:20250501T174904Z
UID:24464-1746612000-1746619200@vcwpiedmont.com
SUMMARY:DARS Walk-In Intake
DESCRIPTION:The Virginia Department for Aging and Rehabilitative Services (DARS) provides services to help Virginians with disabilities prepare for\, secure\, retain or regain employment and become more independent and self-sufficient.\nFor Workshop enrollment assistance: Email brookes.sims@fredgoodwill.org or call 434-529-6828 TDD: VA Relay Center: 711
URL:https://vcwpiedmont.com/event/dars-walk-in-intake-36/
CATEGORIES:Open House
ORGANIZER;CN="Brookes Sims RGI":MAILTO:brookes.sims@fredgoodwill.org
END:VEVENT
BEGIN:VEVENT
DTSTART;TZID=America/New_York:20250507T140000
DTEND;TZID=America/New_York:20250507T150000
DTSTAMP:20260419T193854
CREATED:20250430T180622Z
LAST-MODIFIED:20250430T180622Z
UID:24455-1746626400-1746630000@vcwpiedmont.com
SUMMARY:Info Session: Ready to Work & GO Cook
DESCRIPTION:📢 Join the Charlottesville Office of Economic Development for Their Next Info Session! 📢 \nLearn more about the Ready to Work and GO Cook programs\, which provide jobseekers the opportunity to earn a certificate and get connected to employers for job placement. 🌟 \n🗓️ Date: Wednesday\, May 7\, 2025\n🕙 Time Options: \n\n10 AM – Noon at VCW Charlottesville Center\n2 PM – 3 PM at Downtown Job Center\n\nBoth sessions offer the same valuable information\, so choose the time that works best for you! \n🔗 Register Here: https://form.jotform.com/CvilleEcoDev/info-session \nDon’t miss this chance to advance your career and connect with potential employers! 💼 \n 
URL:https://vcwpiedmont.com/event/info-session-ready-to-work-go-cook-2/
LOCATION:Downtown Job Center\, 507 E Main St\, Charlottesville\, VA\, 22902\, United States
CATEGORIES:Community Event,Workshops
ATTACH;FMTTYPE=image/png:https://vcwpiedmont.com/wp-content/uploads/Info-Sessions-social-post.webp
ORGANIZER;CN="City of Charlottesville Office of Economic Development":MAILTO:bichej@charlottesville.gov
END:VEVENT
END:VCALENDAR