BEGIN:VCALENDAR
VERSION:2.0
PRODID:-//Virginia Career Works Piedmont Region - ECPv6.15.20//NONSGML v1.0//EN
CALSCALE:GREGORIAN
METHOD:PUBLISH
X-ORIGINAL-URL:https://vcwpiedmont.com
X-WR-CALDESC:Events for Virginia Career Works Piedmont Region
REFRESH-INTERVAL;VALUE=DURATION:PT1H
X-Robots-Tag:noindex
X-PUBLISHED-TTL:PT1H
BEGIN:VTIMEZONE
TZID:America/New_York
BEGIN:DAYLIGHT
TZOFFSETFROM:-0500
TZOFFSETTO:-0400
TZNAME:EDT
DTSTART:20250309T070000
END:DAYLIGHT
BEGIN:STANDARD
TZOFFSETFROM:-0400
TZOFFSETTO:-0500
TZNAME:EST
DTSTART:20251102T060000
END:STANDARD
BEGIN:DAYLIGHT
TZOFFSETFROM:-0500
TZOFFSETTO:-0400
TZNAME:EDT
DTSTART:20260308T070000
END:DAYLIGHT
BEGIN:STANDARD
TZOFFSETFROM:-0400
TZOFFSETTO:-0500
TZNAME:EST
DTSTART:20261101T060000
END:STANDARD
BEGIN:DAYLIGHT
TZOFFSETFROM:-0500
TZOFFSETTO:-0400
TZNAME:EDT
DTSTART:20270314T070000
END:DAYLIGHT
BEGIN:STANDARD
TZOFFSETFROM:-0400
TZOFFSETTO:-0500
TZNAME:EST
DTSTART:20271107T060000
END:STANDARD
END:VTIMEZONE
BEGIN:VEVENT
DTSTART;TZID=America/New_York:20260219T093000
DTEND;TZID=America/New_York:20260219T160000
DTSTAMP:20260425T224438
CREATED:20260205T194507Z
LAST-MODIFIED:20260205T194507Z
UID:27005-1771493400-1771516800@vcwpiedmont.com
SUMMARY:Outreach: Wilderness Library
DESCRIPTION:Tuesdays: Orange County Library\nWednesdays: Gordonsville Library\nThursdays: Wilderness Library \nFor Job Seekers:\nCareer Advancement\nJob Leads by Industry\nResume Writing Assistance\nInterview Preparation\nConnections to Local Employers\nCareer Pathway Initiatives\nFunding for Training \nFor Employers:\nPost Job Openings\nOn-site Recruitment\nHiring Events\nLabor Market Information\nEmployee Development\nContact Information: \nEmail: elizabeth.smith@fredgoodwill.org\nPhone: (540) 212-4570\, option 3 \nThe Virginia Career Works – Piedmont Region is an equal opportunity employer/program. Auxiliary aids and services are available upon request to individuals with disabilities. TDD-VA Relay: 711. Interpreters are available upon request. EO Officer.
URL:https://vcwpiedmont.com/event/outreach-wilderness-library-17/
LOCATION:Orange County Main Library\, 146 North Madison Road\, Orange\, 22960\, United States
CATEGORIES:Pop Up Event
ORGANIZER;CN="Elizabeth Smith%2C RGI":MAILTO:elizabeth.smith@fredgoodwill.org
END:VEVENT
BEGIN:VEVENT
DTSTART;TZID=America/New_York:20260219T100000
DTEND;TZID=America/New_York:20260219T130000
DTSTAMP:20260425T224438
CREATED:20260203T145213Z
LAST-MODIFIED:20260203T145213Z
UID:26926-1771495200-1771506000@vcwpiedmont.com
SUMMARY:Hiring Event: UVA Temps
DESCRIPTION: Thursday\, February 19\, 2026 \n 10:00 AM – 1:00 PM \n Career and Workforce Innovation Campus\, 944 Glenwood Station Lane\, Charlottesville\, VA 22901 \n\nLooking for flexible work opportunities? Join UVA Temps to explore temporary assignments across Grounds while building your professional skills in higher education.
URL:https://vcwpiedmont.com/event/hiring-event-uva-temps-12/
LOCATION:Virginia Career Works – Charlottesville Center\, 944 Glenwood Station Lane\, Suite 103\, Charlottesville\, VA\, 22901\, United States
CATEGORIES:Hiring Event
ATTACH;FMTTYPE=image/png:https://vcwpiedmont.com/wp-content/uploads/UVA-Temps_021926.webp
ORGANIZER;CN="Brookes Sims RGI":MAILTO:brookes.sims@fredgoodwill.org
END:VEVENT
BEGIN:VEVENT
DTSTART;TZID=America/New_York:20260219T150000
DTEND;TZID=America/New_York:20260219T160000
DTSTAMP:20260425T224438
CREATED:20260203T144239Z
LAST-MODIFIED:20260203T144239Z
UID:26920-1771513200-1771516800@vcwpiedmont.com
SUMMARY:WIOA Orientation
DESCRIPTION:The Workforce Innovation and Opportunity Act (WIOA) Adult Program offers orientation sessions to help eligible adults find jobs through training and job search assistance:\nWhat to expect\nWIOA orientation sessions provide an overview of the program\, including the resources and benefits available to participants.\nWho is eligible\nThe WIOA Adult Program is for unemployed or underemployed adults 18 and older\, or those who are considered dislocated workers.\nWIOA offers a range of services\, including:\n•	Career services\, such as resume assistance and interview skills\n•	Job search support\n•	Training services\, such as occupational skills training and on-the-job training\n•	Supportive services\, such as help with background checks\, transportation\, and child care\nFor Workshop enrollment assistance: Email brookes.sims@fredgoodwill.org or call 434-529-6828 TDD: VA Relay Center: 711
URL:https://vcwpiedmont.com/event/wioa-orientation-55/
LOCATION:Virginia Career Works – Charlottesville Center\, 944 Glenwood Station Lane\, Suite 103\, Charlottesville\, VA\, 22901\, United States
CATEGORIES:WIOA Orientation
ORGANIZER;CN="Brookes Sims RGI":MAILTO:brookes.sims@fredgoodwill.org
END:VEVENT
END:VCALENDAR