BEGIN:VCALENDAR
VERSION:2.0
PRODID:-//Virginia Career Works Piedmont Region - ECPv6.15.20//NONSGML v1.0//EN
CALSCALE:GREGORIAN
METHOD:PUBLISH
X-ORIGINAL-URL:https://vcwpiedmont.com
X-WR-CALDESC:Events for Virginia Career Works Piedmont Region
REFRESH-INTERVAL;VALUE=DURATION:PT1H
X-Robots-Tag:noindex
X-PUBLISHED-TTL:PT1H
BEGIN:VTIMEZONE
TZID:America/New_York
BEGIN:DAYLIGHT
TZOFFSETFROM:-0500
TZOFFSETTO:-0400
TZNAME:EDT
DTSTART:20250309T070000
END:DAYLIGHT
BEGIN:STANDARD
TZOFFSETFROM:-0400
TZOFFSETTO:-0500
TZNAME:EST
DTSTART:20251102T060000
END:STANDARD
BEGIN:DAYLIGHT
TZOFFSETFROM:-0500
TZOFFSETTO:-0400
TZNAME:EDT
DTSTART:20260308T070000
END:DAYLIGHT
BEGIN:STANDARD
TZOFFSETFROM:-0400
TZOFFSETTO:-0500
TZNAME:EST
DTSTART:20261101T060000
END:STANDARD
BEGIN:DAYLIGHT
TZOFFSETFROM:-0500
TZOFFSETTO:-0400
TZNAME:EDT
DTSTART:20270314T070000
END:DAYLIGHT
BEGIN:STANDARD
TZOFFSETFROM:-0400
TZOFFSETTO:-0500
TZNAME:EST
DTSTART:20271107T060000
END:STANDARD
END:VTIMEZONE
BEGIN:VEVENT
DTSTART;TZID=America/New_York:20260319T173000
DTEND;TZID=America/New_York:20260319T193000
DTSTAMP:20260419T161136
CREATED:20260318T190028Z
LAST-MODIFIED:20260318T190030Z
UID:27714-1773941400-1773948600@vcwpiedmont.com
SUMMARY:Trade Street 2026: Fauquier County Public Schools
DESCRIPTION:
URL:https://vcwpiedmont.com/event/trade-street-2026-fauquier-county-public-schools/
LOCATION:Kettle Run High School\, 7403 Academic Avenue\, Nokesville\, VA\, 20181\, United States
CATEGORIES:Community Event,Job Fairs,Youth/Student
ATTACH;FMTTYPE=image/png:https://vcwpiedmont.com/wp-content/uploads/Screenshot-2026-03-18-145221.webp
END:VEVENT
BEGIN:VEVENT
DTSTART;TZID=America/New_York:20260319T183000
DTEND;TZID=America/New_York:20260319T203000
DTSTAMP:20260419T161136
CREATED:20260312T150646Z
LAST-MODIFIED:20260312T150646Z
UID:27623-1773945000-1773952200@vcwpiedmont.com
SUMMARY:Voices of Adult Learners with TJACE
DESCRIPTION:
URL:https://vcwpiedmont.com/event/voices-of-adult-learners-with-tjace/
LOCATION:VA
CATEGORIES:Community Event
ATTACH;FMTTYPE=image/png:https://vcwpiedmont.com/wp-content/uploads/Voices-of-Adult-Learners_031926.webp
END:VEVENT
END:VCALENDAR