BEGIN:VCALENDAR
VERSION:2.0
PRODID:-//Virginia Career Works Piedmont Region - ECPv6.15.20//NONSGML v1.0//EN
CALSCALE:GREGORIAN
METHOD:PUBLISH
X-ORIGINAL-URL:https://vcwpiedmont.com
X-WR-CALDESC:Events for Virginia Career Works Piedmont Region
REFRESH-INTERVAL;VALUE=DURATION:PT1H
X-Robots-Tag:noindex
X-PUBLISHED-TTL:PT1H
BEGIN:VTIMEZONE
TZID:America/New_York
BEGIN:DAYLIGHT
TZOFFSETFROM:-0500
TZOFFSETTO:-0400
TZNAME:EDT
DTSTART:20250309T070000
END:DAYLIGHT
BEGIN:STANDARD
TZOFFSETFROM:-0400
TZOFFSETTO:-0500
TZNAME:EST
DTSTART:20251102T060000
END:STANDARD
BEGIN:DAYLIGHT
TZOFFSETFROM:-0500
TZOFFSETTO:-0400
TZNAME:EDT
DTSTART:20260308T070000
END:DAYLIGHT
BEGIN:STANDARD
TZOFFSETFROM:-0400
TZOFFSETTO:-0500
TZNAME:EST
DTSTART:20261101T060000
END:STANDARD
BEGIN:DAYLIGHT
TZOFFSETFROM:-0500
TZOFFSETTO:-0400
TZNAME:EDT
DTSTART:20270314T070000
END:DAYLIGHT
BEGIN:STANDARD
TZOFFSETFROM:-0400
TZOFFSETTO:-0500
TZNAME:EST
DTSTART:20271107T060000
END:STANDARD
END:VTIMEZONE
BEGIN:VEVENT
DTSTART;TZID=America/New_York:20260326T130000
DTEND;TZID=America/New_York:20260326T160000
DTSTAMP:20260419T072703
CREATED:20260325T133250Z
LAST-MODIFIED:20260325T133250Z
UID:27862-1774530000-1774540800@vcwpiedmont.com
SUMMARY:UVA Pipelines & Pathways Earn While You Learn Recruitment Event
DESCRIPTION:🚀 UVA Health is hiring through UVA Pipelines & Pathways’ Earn While You Learn (EWYL) training programs — and you can interview on the spot! \n\nJoin UVA onsite at the Virginia Career Works–Charlottesville Center on Thursday\, March 26 from 1:00-4:00 PM for immediate hiring opportunities. \nSubmit your EWYL application in person and get an instant interview — no experience required. \nYou can attend in person (walk‑ins welcome) or virtually by registering here. \nThese paid training programs allow participants to earn full‑time salary and benefits while completing training for in‑demand roles at UVA Health. \nHiring for multiple Earn While You Learn pathways\, including:\n• Patient Care Technician\n• Emergency Medical Technician\n• Patient Access Associate\n• Certified Medical Assistant\n• Phlebotomist \nUVA is also recruiting for the Pathways to Success – Early Childhood Educator Training Program\, running June 1-26. Participants earn $15/hour during training\, with post‑training wages ranging $15-$20/hour. Apply here for the Early Childhood Educator Training Program.  \n📩 Questions? Contact UVA Pipelines & Pathways: uvapipelines@virginia.edu \nTake the next step in your career journey — your pathway into healthcare or early childhood education starts here!
URL:https://vcwpiedmont.com/event/uva-pipelines-pathways-earn-while-you-learn-recruitment-event/
LOCATION:Virginia Career Works – Charlottesville Center\, 944 Glenwood Station Lane\, Suite 103\, Charlottesville\, VA\, 22901\, United States
CATEGORIES:Hiring Event,Networking Event
ATTACH;FMTTYPE=image/jpeg:https://vcwpiedmont.com/wp-content/uploads/UVA-PP_032626.webp
ORGANIZER;CN="UVA Pipelines & Pathways":MAILTO:uvapipelines@virginia.edu
END:VEVENT
END:VCALENDAR