BEGIN:VCALENDAR
VERSION:2.0
PRODID:-//Virginia Career Works Piedmont Region - ECPv6.15.20//NONSGML v1.0//EN
CALSCALE:GREGORIAN
METHOD:PUBLISH
X-WR-CALNAME:Virginia Career Works Piedmont Region
X-ORIGINAL-URL:https://vcwpiedmont.com
X-WR-CALDESC:Events for Virginia Career Works Piedmont Region
REFRESH-INTERVAL;VALUE=DURATION:PT1H
X-Robots-Tag:noindex
X-PUBLISHED-TTL:PT1H
BEGIN:VTIMEZONE
TZID:America/New_York
BEGIN:DAYLIGHT
TZOFFSETFROM:-0500
TZOFFSETTO:-0400
TZNAME:EDT
DTSTART:20240310T070000
END:DAYLIGHT
BEGIN:STANDARD
TZOFFSETFROM:-0400
TZOFFSETTO:-0500
TZNAME:EST
DTSTART:20241103T060000
END:STANDARD
BEGIN:DAYLIGHT
TZOFFSETFROM:-0500
TZOFFSETTO:-0400
TZNAME:EDT
DTSTART:20250309T070000
END:DAYLIGHT
BEGIN:STANDARD
TZOFFSETFROM:-0400
TZOFFSETTO:-0500
TZNAME:EST
DTSTART:20251102T060000
END:STANDARD
BEGIN:DAYLIGHT
TZOFFSETFROM:-0500
TZOFFSETTO:-0400
TZNAME:EDT
DTSTART:20260308T070000
END:DAYLIGHT
BEGIN:STANDARD
TZOFFSETFROM:-0400
TZOFFSETTO:-0500
TZNAME:EST
DTSTART:20261101T060000
END:STANDARD
END:VTIMEZONE
BEGIN:VEVENT
DTSTART;TZID=America/New_York:20251027T103000
DTEND;TZID=America/New_York:20251027T113000
DTSTAMP:20260421T135959
CREATED:20250917T175211Z
LAST-MODIFIED:20250917T175854Z
UID:25447-1761561000-1761564600@vcwpiedmont.com
SUMMARY:Community Networking with Blue Ridge Health District
DESCRIPTION:🤝 Join Us for a Community Networking Session hosted by Blue Ridge Health District’s Outreach Network!\n📅 Monday\, October 27\n🕥 10:30 – 11:30 AM\n📍 Kessler Conference Room\, MJH Outpatient Care Center\, 595 Martha Jefferson Dr\, Charlottesville\, VA \nConnect with local organizations and learn how to make referrals for vital community services.\n🔹 First 30 minutes: Presentations from \n\nVirginia Career Works – Piedmont Region (WIOA)\nLiving Free Together\nAlbemarle Housing Improvement Program\n\n🔸 Last 30 minutes: Informal networking and connection-building \nRegister\nLet’s strengthen partnerships and build a more connected community—together!
URL:https://vcwpiedmont.com/event/community-networking-with-blue-ridge-health-district/
LOCATION:Martha Jefferson Hospital Outpatient Care Center\, 595 Martha Jefferson Dr\, Charlotteville\, VA\, United States
CATEGORIES:Networking Event
ATTACH;FMTTYPE=image/png:https://vcwpiedmont.com/wp-content/uploads/Networking-with-BRHD-1.webp
ORGANIZER;CN="Blue Ridge Health Department Outreach Network":MAILTO:jennifer.reilly@vdh.virginia.gov
END:VEVENT
BEGIN:VEVENT
DTSTART;TZID=America/New_York:20251017T093000
DTEND;TZID=America/New_York:20251017T103000
DTSTAMP:20260421T135959
CREATED:20251007T153154Z
LAST-MODIFIED:20251007T153157Z
UID:25731-1760693400-1760697000@vcwpiedmont.com
SUMMARY:Coffee & Conversations with the Charlottesville Office of Economic Development
DESCRIPTION:☕ Join Us for Coffee and Conversations!\nLooking for a relaxed way to network and learn about local workforce opportunities? This event is for YOU! \n📅 Date: Friday\, October 17\, 2025\n🕤 Time: 9:30 AM – 10:30 AM\n📍 Location: Charlottesville Albemarle Convention & Visitor’s Bureau\, 3510 Remson Court\, Suite 102\, Charlottesville\, VA \n✅ Connect with local professionals\n✅ Explore job openings and career pathways\n✅ Discover community resources\n✅ Enjoy complimentary coffee and refreshments \nWhether you’re a job seeker\, employer\, or simply curious about workforce programs\, this informal gathering is designed to spark real conversations and build community connections. \n💡 Job seekers: Bring a few copies of your resume\n💡 Employers & organizations: Bring business cards \nRSVP by October 15 to bichej@charlottesville.gov \nSpread the word and join us for a rewarding morning of networking!
URL:https://vcwpiedmont.com/event/coffee-conversations-with-the-charlottesville-office-of-economic-development/
LOCATION:Charlottesville Albemarle Convention & Visitor’s Bureau\, 3510 Remson Court\, Suite 102\, Charlottesville\, VA\, United States
CATEGORIES:Community Event,Networking Event
ATTACH;FMTTYPE=image/png:https://vcwpiedmont.com/wp-content/uploads/CC-10.17.25.webp
ORGANIZER;CN="City of Charlottesville Office of Economic Development":MAILTO:bichej@charlottesville.gov
END:VEVENT
END:VCALENDAR