BEGIN:VCALENDAR
VERSION:2.0
PRODID:-//Virginia Career Works Piedmont Region - ECPv6.15.20//NONSGML v1.0//EN
CALSCALE:GREGORIAN
METHOD:PUBLISH
X-WR-CALNAME:Virginia Career Works Piedmont Region
X-ORIGINAL-URL:https://vcwpiedmont.com
X-WR-CALDESC:Events for Virginia Career Works Piedmont Region
REFRESH-INTERVAL;VALUE=DURATION:PT1H
X-Robots-Tag:noindex
X-PUBLISHED-TTL:PT1H
BEGIN:VTIMEZONE
TZID:America/New_York
BEGIN:DAYLIGHT
TZOFFSETFROM:-0500
TZOFFSETTO:-0400
TZNAME:EDT
DTSTART:20250309T070000
END:DAYLIGHT
BEGIN:STANDARD
TZOFFSETFROM:-0400
TZOFFSETTO:-0500
TZNAME:EST
DTSTART:20251102T060000
END:STANDARD
BEGIN:DAYLIGHT
TZOFFSETFROM:-0500
TZOFFSETTO:-0400
TZNAME:EDT
DTSTART:20260308T070000
END:DAYLIGHT
BEGIN:STANDARD
TZOFFSETFROM:-0400
TZOFFSETTO:-0500
TZNAME:EST
DTSTART:20261101T060000
END:STANDARD
BEGIN:DAYLIGHT
TZOFFSETFROM:-0500
TZOFFSETTO:-0400
TZNAME:EDT
DTSTART:20270314T070000
END:DAYLIGHT
BEGIN:STANDARD
TZOFFSETFROM:-0400
TZOFFSETTO:-0500
TZNAME:EST
DTSTART:20271107T060000
END:STANDARD
END:VTIMEZONE
BEGIN:VEVENT
DTSTART;TZID=America/New_York:20260312T160000
DTEND;TZID=America/New_York:20260312T170000
DTSTAMP:20260425T170703
CREATED:20260311T152400Z
LAST-MODIFIED:20260311T152602Z
UID:27574-1773331200-1773334800@vcwpiedmont.com
SUMMARY:VEDP Webinar for Employers: Leveraging InternshipsVA in Handshake
DESCRIPTION:
URL:https://vcwpiedmont.com/event/vedp-webinar-for-employers-leveraging-internshipsva-in-handshake/
CATEGORIES:Employers
END:VEVENT
BEGIN:VEVENT
DTSTART;VALUE=DATE:20260318
DTEND;VALUE=DATE:20260319
DTSTAMP:20260425T170703
CREATED:20260225T152448Z
LAST-MODIFIED:20260225T152448Z
UID:27314-1773792000-1773878399@vcwpiedmont.com
SUMMARY:DEADLINE: HIRED Apprenticeship Fund
DESCRIPTION:
URL:https://vcwpiedmont.com/event/deadline-hired-apprenticeship-fund/
CATEGORIES:Employers
ATTACH;FMTTYPE=image/png:https://vcwpiedmont.com/wp-content/uploads/1-5.webp
END:VEVENT
BEGIN:VEVENT
DTSTART;TZID=America/New_York:20260318T140000
DTEND;TZID=America/New_York:20260318T150000
DTSTAMP:20260425T170703
CREATED:20260311T152715Z
LAST-MODIFIED:20260311T152715Z
UID:27579-1773842400-1773846000@vcwpiedmont.com
SUMMARY:VEDP Webinar for Employers: Maximizing the Value of Internships for Employers
DESCRIPTION:
URL:https://vcwpiedmont.com/event/vedp-webinar-for-employers-maximizing-the-value-of-internships-for-employers/
CATEGORIES:Employers
END:VEVENT
BEGIN:VEVENT
DTSTART;TZID=America/New_York:20260326T081500
DTEND;TZID=America/New_York:20260326T160000
DTSTAMP:20260425T170703
CREATED:20260319T162339Z
LAST-MODIFIED:20260319T162339Z
UID:27754-1774512900-1774540800@vcwpiedmont.com
SUMMARY:William Monroe High School: College & Career Expo
DESCRIPTION:Employers\, It’s Not Too Late!  William Monroe High School is gearing up for the College & Career Expo next Thursday\, and there’s still time for you to be part of this exciting event! \nThe Expo will run from 8:15am to 4:00pm on the campus of William Monroe High School on March 26\, 2026. Contact GCTEC Associate Principal Jesse Lamm at jlamm@greenecountyschools.com if you have any questions. \nThis is a great opportunity to connect with students\, showcase your organization\, and help inspire the next generation of the workforce.Employer Registration
URL:https://vcwpiedmont.com/event/william-monroe-high-school-college-career-expo/
LOCATION:William Monroe High School\, 254 Monroe Dr\,\, Stanardsville\, VA\, 22973\, United States
CATEGORIES:Employers,Youth/Student
ATTACH;FMTTYPE=image/png:https://vcwpiedmont.com/wp-content/uploads/WMHS_College-and-Career_032626.webp
ORGANIZER;CN="Jesse Lamm%2C GTEC Associate Principal":MAILTO:jlamm@greenecountyschools.com 
END:VEVENT
BEGIN:VEVENT
DTSTART;TZID=America/New_York:20260326T150000
DTEND;TZID=America/New_York:20260326T153000
DTSTAMP:20260425T170703
CREATED:20260318T194218Z
LAST-MODIFIED:20260318T194218Z
UID:27724-1774537200-1774539000@vcwpiedmont.com
SUMMARY:Employers: National Apprenticeship Week Town Hall (Virtual)
DESCRIPTION:
URL:https://vcwpiedmont.com/event/employers-national-apprenticeship-week-town-hall-virtual/
CATEGORIES:Employers
ATTACH;FMTTYPE=image/png:https://vcwpiedmont.com/wp-content/uploads/NAW-webinar_022726.webp
END:VEVENT
BEGIN:VEVENT
DTSTART;TZID=America/New_York:20260326T150000
DTEND;TZID=America/New_York:20260326T180000
DTSTAMP:20260425T170703
CREATED:20260305T142139Z
LAST-MODIFIED:20260305T142139Z
UID:27479-1774537200-1774548000@vcwpiedmont.com
SUMMARY:EdWeek Top School Jobs Fair\, feat. Fauquier County Public Schools
DESCRIPTION:
URL:https://vcwpiedmont.com/event/edweek-top-school-jobs-fair-feat-fauquier-county-public-schools/
LOCATION:Online
CATEGORIES:Employers,Hiring Event,Job Fairs
END:VEVENT
BEGIN:VEVENT
DTSTART;TZID=America/New_York:20260327T130000
DTEND;TZID=America/New_York:20260327T140000
DTSTAMP:20260425T170703
CREATED:20260311T131033Z
LAST-MODIFIED:20260311T131033Z
UID:27568-1774616400-1774620000@vcwpiedmont.com
SUMMARY:Webinar: Key Sub-regulatory Guidance for the National Apprenticeship System - U.S. Department of Labor Employment & Training Administration
DESCRIPTION:
URL:https://vcwpiedmont.com/event/webinar-key-sub-regulatory-guidance-for-the-national-apprenticeship-system-u-s-department-of-labor-employment-training-administration/
CATEGORIES:Employers
END:VEVENT
END:VCALENDAR