BEGIN:VCALENDAR
VERSION:2.0
PRODID:-//Virginia Career Works Piedmont Region - ECPv6.15.20//NONSGML v1.0//EN
CALSCALE:GREGORIAN
METHOD:PUBLISH
X-WR-CALNAME:Virginia Career Works Piedmont Region
X-ORIGINAL-URL:https://vcwpiedmont.com
X-WR-CALDESC:Events for Virginia Career Works Piedmont Region
REFRESH-INTERVAL;VALUE=DURATION:PT1H
X-Robots-Tag:noindex
X-PUBLISHED-TTL:PT1H
BEGIN:VTIMEZONE
TZID:America/New_York
BEGIN:DAYLIGHT
TZOFFSETFROM:-0500
TZOFFSETTO:-0400
TZNAME:EDT
DTSTART:20250309T070000
END:DAYLIGHT
BEGIN:STANDARD
TZOFFSETFROM:-0400
TZOFFSETTO:-0500
TZNAME:EST
DTSTART:20251102T060000
END:STANDARD
BEGIN:DAYLIGHT
TZOFFSETFROM:-0500
TZOFFSETTO:-0400
TZNAME:EDT
DTSTART:20260308T070000
END:DAYLIGHT
BEGIN:STANDARD
TZOFFSETFROM:-0400
TZOFFSETTO:-0500
TZNAME:EST
DTSTART:20261101T060000
END:STANDARD
BEGIN:DAYLIGHT
TZOFFSETFROM:-0500
TZOFFSETTO:-0400
TZNAME:EDT
DTSTART:20270314T070000
END:DAYLIGHT
BEGIN:STANDARD
TZOFFSETFROM:-0400
TZOFFSETTO:-0500
TZNAME:EST
DTSTART:20271107T060000
END:STANDARD
END:VTIMEZONE
BEGIN:VEVENT
DTSTART;VALUE=DATE:20260420
DTEND;VALUE=DATE:20260422
DTSTAMP:20260421T152341
CREATED:20260113T142520Z
LAST-MODIFIED:20260305T145442Z
UID:26652-1776643200-1776815999@vcwpiedmont.com
SUMMARY:Virginia Workforce Symposium
DESCRIPTION:
URL:https://vcwpiedmont.com/event/save-the-date-virginia-workforce-symposium/
CATEGORIES:Employers
ATTACH;FMTTYPE=image/jpeg:https://vcwpiedmont.com/wp-content/uploads/VaWorkforceSymposium_042126.webp
END:VEVENT
BEGIN:VEVENT
DTSTART;TZID=America/New_York:20260420T120000
DTEND;TZID=America/New_York:20260420T130000
DTSTAMP:20260421T152341
CREATED:20260407T201906Z
LAST-MODIFIED:20260410T132340Z
UID:28083-1776686400-1776690000@vcwpiedmont.com
SUMMARY:Why Hire Fair Chance? Webinar by Virginia Works
DESCRIPTION:
URL:https://vcwpiedmont.com/event/why-hire-fair-chance-webinar-by-virginia-works/
CATEGORIES:Employers
END:VEVENT
END:VCALENDAR