BEGIN:VCALENDAR
VERSION:2.0
PRODID:-//Virginia Career Works Piedmont Region - ECPv6.15.20//NONSGML v1.0//EN
CALSCALE:GREGORIAN
METHOD:PUBLISH
X-ORIGINAL-URL:https://vcwpiedmont.com
X-WR-CALDESC:Events for Virginia Career Works Piedmont Region
REFRESH-INTERVAL;VALUE=DURATION:PT1H
X-Robots-Tag:noindex
X-PUBLISHED-TTL:PT1H
BEGIN:VTIMEZONE
TZID:America/New_York
BEGIN:DAYLIGHT
TZOFFSETFROM:-0500
TZOFFSETTO:-0400
TZNAME:EDT
DTSTART:20240310T070000
END:DAYLIGHT
BEGIN:STANDARD
TZOFFSETFROM:-0400
TZOFFSETTO:-0500
TZNAME:EST
DTSTART:20241103T060000
END:STANDARD
BEGIN:DAYLIGHT
TZOFFSETFROM:-0500
TZOFFSETTO:-0400
TZNAME:EDT
DTSTART:20250309T070000
END:DAYLIGHT
BEGIN:STANDARD
TZOFFSETFROM:-0400
TZOFFSETTO:-0500
TZNAME:EST
DTSTART:20251102T060000
END:STANDARD
BEGIN:DAYLIGHT
TZOFFSETFROM:-0500
TZOFFSETTO:-0400
TZNAME:EDT
DTSTART:20260308T070000
END:DAYLIGHT
BEGIN:STANDARD
TZOFFSETFROM:-0400
TZOFFSETTO:-0500
TZNAME:EST
DTSTART:20261101T060000
END:STANDARD
END:VTIMEZONE
BEGIN:VEVENT
DTSTART;TZID=America/New_York:20250430T100000
DTEND;TZID=America/New_York:20250430T140000
DTSTAMP:20260419T190120
CREATED:20250423T141402Z
LAST-MODIFIED:20250423T141402Z
UID:24424-1746007200-1746021600@vcwpiedmont.com
SUMMARY:Registered Apprenticeship Expo (Virtual)
DESCRIPTION:🚀 Ready to kickstart your career? Join Virginia Works at the Registered Apprenticeship Expo on April 30 from 10 AM to 2 PM! 🌟 \n🔍 What to Expect: \n\nVisit virtual “booths” and learn about hiring organizations and the apprenticeship process.\nLive video interviews with hiring managers.\nAccess resources to advance your career or explore new paths.\n\n📅 Early Access: \n\nStarts April 29th at 10 AM.\nPreview employers\, view jobs\, and schedule meetings.\n\n📝 Before the Event: \n\nRegister here or via the QR code on the flyer.\nComplete your profile and upload your resume.\nUtilize resume help at Virginia Career Works Centers or online at Virginia Workforce Connection.\n\n📧 Questions? Email Hiring.Events@virginiaworks.gov \nDon’t miss this chance to Earn While You Learn with Registered Apprenticeship in the Commonwealth of Virginia! 🌟 \nDownload the Flyer
URL:https://vcwpiedmont.com/event/registered-apprenticeship-expo-virtual/
LOCATION:Virtual
CATEGORIES:Hiring Event,Job Fairs
ATTACH;FMTTYPE=image/png:https://vcwpiedmont.com/wp-content/uploads/RAExpo-Jobseeker-scaled.webp
END:VEVENT
END:VCALENDAR