BEGIN:VCALENDAR
VERSION:2.0
PRODID:-//Virginia Career Works Piedmont Region - ECPv6.15.20//NONSGML v1.0//EN
CALSCALE:GREGORIAN
METHOD:PUBLISH
X-ORIGINAL-URL:https://vcwpiedmont.com
X-WR-CALDESC:Events for Virginia Career Works Piedmont Region
REFRESH-INTERVAL;VALUE=DURATION:PT1H
X-Robots-Tag:noindex
X-PUBLISHED-TTL:PT1H
BEGIN:VTIMEZONE
TZID:America/New_York
BEGIN:DAYLIGHT
TZOFFSETFROM:-0500
TZOFFSETTO:-0400
TZNAME:EDT
DTSTART:20240310T070000
END:DAYLIGHT
BEGIN:STANDARD
TZOFFSETFROM:-0400
TZOFFSETTO:-0500
TZNAME:EST
DTSTART:20241103T060000
END:STANDARD
BEGIN:DAYLIGHT
TZOFFSETFROM:-0500
TZOFFSETTO:-0400
TZNAME:EDT
DTSTART:20250309T070000
END:DAYLIGHT
BEGIN:STANDARD
TZOFFSETFROM:-0400
TZOFFSETTO:-0500
TZNAME:EST
DTSTART:20251102T060000
END:STANDARD
BEGIN:DAYLIGHT
TZOFFSETFROM:-0500
TZOFFSETTO:-0400
TZNAME:EDT
DTSTART:20260308T070000
END:DAYLIGHT
BEGIN:STANDARD
TZOFFSETFROM:-0400
TZOFFSETTO:-0500
TZNAME:EST
DTSTART:20261101T060000
END:STANDARD
END:VTIMEZONE
BEGIN:VEVENT
DTSTART;TZID=America/New_York:20250514T100000
DTEND;TZID=America/New_York:20250514T140000
DTSTAMP:20260419T143029
CREATED:20250505T134037Z
LAST-MODIFIED:20250505T134037Z
UID:24509-1747216800-1747231200@vcwpiedmont.com
SUMMARY:Hiring Event: Bowlero
DESCRIPTION:🎳 Strike Up a New Career at Bowlero! 🎳 \nReady to roll into an exciting new job? Join a Bowlero Hiring Event! \n📅 Date: Thurs\, May 8 AND Weds\, May 14\n🕙 Time: 10:00 am – 2:00 pm\n📍 Location: VCWP Career and Workforce Innovation Campus\, 944 Glenwood Station Lane\, Charlottesville\, VA 22901 \nBowlero is on the lookout for enthusiastic individuals to fill these positions: \n\n🎳 Servers\n🍹 Bartenders\n🛎️ Front Desk\n\nCheck out Bowlero Careers to learn more and apply: https://vcw-p.short.gy/N5JMhd \nQuestions? Contact VCWP Center Manager Brookes Sims at brookes.sims@fredgoodwill.org or visit www.vcwpiedmont.com for more information. \n 
URL:https://vcwpiedmont.com/event/hiring-event-bowlero-2/
LOCATION:Virginia Career Works–Charlottesville Center\, 944 Glenwood Station\, Suite 103\, Charlottesville\, VA\, 22901\, United States
CATEGORIES:Hiring Event
ATTACH;FMTTYPE=image/png:https://vcwpiedmont.com/wp-content/uploads/Bowlero-Hiring-Event-051425-scaled.webp
ORGANIZER;CN="Brookes Sims RGI":MAILTO:brookes.sims@fredgoodwill.org
END:VEVENT
END:VCALENDAR