BEGIN:VCALENDAR
VERSION:2.0
PRODID:-//Virginia Career Works Piedmont Region - ECPv6.15.20//NONSGML v1.0//EN
CALSCALE:GREGORIAN
METHOD:PUBLISH
X-ORIGINAL-URL:https://vcwpiedmont.com
X-WR-CALDESC:Events for Virginia Career Works Piedmont Region
REFRESH-INTERVAL;VALUE=DURATION:PT1H
X-Robots-Tag:noindex
X-PUBLISHED-TTL:PT1H
BEGIN:VTIMEZONE
TZID:America/New_York
BEGIN:DAYLIGHT
TZOFFSETFROM:-0500
TZOFFSETTO:-0400
TZNAME:EDT
DTSTART:20240310T070000
END:DAYLIGHT
BEGIN:STANDARD
TZOFFSETFROM:-0400
TZOFFSETTO:-0500
TZNAME:EST
DTSTART:20241103T060000
END:STANDARD
BEGIN:DAYLIGHT
TZOFFSETFROM:-0500
TZOFFSETTO:-0400
TZNAME:EDT
DTSTART:20250309T070000
END:DAYLIGHT
BEGIN:STANDARD
TZOFFSETFROM:-0400
TZOFFSETTO:-0500
TZNAME:EST
DTSTART:20251102T060000
END:STANDARD
BEGIN:DAYLIGHT
TZOFFSETFROM:-0500
TZOFFSETTO:-0400
TZNAME:EDT
DTSTART:20260308T070000
END:DAYLIGHT
BEGIN:STANDARD
TZOFFSETFROM:-0400
TZOFFSETTO:-0500
TZNAME:EST
DTSTART:20261101T060000
END:STANDARD
END:VTIMEZONE
BEGIN:VEVENT
DTSTART;TZID=America/New_York:20250520T100000
DTEND;TZID=America/New_York:20250520T140000
DTSTAMP:20260421T093335
CREATED:20250501T175701Z
LAST-MODIFIED:20250501T175701Z
UID:24487-1747735200-1747749600@vcwpiedmont.com
SUMMARY:Hiring Event: Albemarle County Public Schools
DESCRIPTION:Albemarle County Public Schools will have a Hiring Events on our campus in May!
URL:https://vcwpiedmont.com/event/hiring-event-albemarle-county-public-schools-3/
LOCATION:Virginia Career Works–Charlottesville Center\, 944 Glenwood Station\, Suite 103\, Charlottesville\, VA\, 22901\, United States
CATEGORIES:Hiring Event
ATTACH;FMTTYPE=image/jpeg:https://vcwpiedmont.com/wp-content/uploads/acps.webp
ORGANIZER;CN="Brookes Sims RGI":MAILTO:brookes.sims@fredgoodwill.org
END:VEVENT
BEGIN:VEVENT
DTSTART;TZID=America/New_York:20250520T100000
DTEND;TZID=America/New_York:20250520T140000
DTSTAMP:20260421T093335
CREATED:20250520T135505Z
LAST-MODIFIED:20250520T135505Z
UID:24607-1747735200-1747749600@vcwpiedmont.com
SUMMARY:Hiring Event: Nomad Nursing
DESCRIPTION:Nomad Nursing is growing\, and we’re looking for compassionate\, dedicated healthcare professionals to join our team!\n\n\n Date: Tuesday\, May 20\n Time: 10:00 AM – 2:00 PM\n Location: 8726 Seminole Trail Suite 2 Ruckersville\, Va 22968\n\n\n\nWe’re conducting Open Interviews for the following positions:\n PCAs (Personal Care Aides)\n DCAs (Direct Care Aides)\n CNAs (Certified Nursing Assistants)\n RMAs (Registered Medication Aides)\n LPNs (Licensed Practical Nurses)\n RNs (Registered Nurses)\n\n\n\n Whether you’re experienced or just starting your journey\, come meet our team and see what Nomad Nursing is all about!\n\n\n Bring your resume and credentials – walk-ins welcome!
URL:https://vcwpiedmont.com/event/hiring-event-nomad-nursing/
LOCATION:Nomad Nursing Agency and Academy\, 8726 Seminole Trail Suite 2\, Rcuekrsville\, VA\, 22968\, United States
CATEGORIES:Hiring Event
ORGANIZER;CN="Jason Ford":MAILTO:jason.ford@fredgoodwill.org
END:VEVENT
END:VCALENDAR