BEGIN:VCALENDAR
VERSION:2.0
PRODID:-//Virginia Career Works Piedmont Region - ECPv6.15.20//NONSGML v1.0//EN
CALSCALE:GREGORIAN
METHOD:PUBLISH
X-WR-CALNAME:Virginia Career Works Piedmont Region
X-ORIGINAL-URL:https://vcwpiedmont.com
X-WR-CALDESC:Events for Virginia Career Works Piedmont Region
REFRESH-INTERVAL;VALUE=DURATION:PT1H
X-Robots-Tag:noindex
X-PUBLISHED-TTL:PT1H
BEGIN:VTIMEZONE
TZID:America/New_York
BEGIN:DAYLIGHT
TZOFFSETFROM:-0500
TZOFFSETTO:-0400
TZNAME:EDT
DTSTART:20240310T070000
END:DAYLIGHT
BEGIN:STANDARD
TZOFFSETFROM:-0400
TZOFFSETTO:-0500
TZNAME:EST
DTSTART:20241103T060000
END:STANDARD
BEGIN:DAYLIGHT
TZOFFSETFROM:-0500
TZOFFSETTO:-0400
TZNAME:EDT
DTSTART:20250309T070000
END:DAYLIGHT
BEGIN:STANDARD
TZOFFSETFROM:-0400
TZOFFSETTO:-0500
TZNAME:EST
DTSTART:20251102T060000
END:STANDARD
BEGIN:DAYLIGHT
TZOFFSETFROM:-0500
TZOFFSETTO:-0400
TZNAME:EDT
DTSTART:20260308T070000
END:DAYLIGHT
BEGIN:STANDARD
TZOFFSETFROM:-0400
TZOFFSETTO:-0500
TZNAME:EST
DTSTART:20261101T060000
END:STANDARD
END:VTIMEZONE
BEGIN:VEVENT
DTSTART;TZID=America/New_York:20250710T100000
DTEND;TZID=America/New_York:20250710T140000
DTSTAMP:20260419T124402
CREATED:20250626T145942Z
LAST-MODIFIED:20250626T145943Z
UID:24865-1752141600-1752156000@vcwpiedmont.com
SUMMARY:Hiring Event: Home Depot
DESCRIPTION:🛠️ Now Hiring in Charlottesville! 🛠️\nHome Depot is opening a brand-new store and looking for talented individuals to join their team! \n📍 Location: Career and Workforce Innovation Campus\n944 Glenwood Station Lane\, Charlottesville\, VA 22901 \n📅 Hiring Event Dates: \n\nThursday\, July 3\, 2025\nWednesday\, July 9\, 2025\nThursday\, July 10\, 2025\n🕙 Time: 10:00 AM – 2:00 PM\n\nWhether you’re looking to start a new career or grow in retail\, this is your chance to connect directly with Home Depot recruiters and explore a variety of roles. \n📩 Questions? Contact Brookes Sims at brookes.sims@fredgoodwill.org\n🔗 Learn more: www.vcwpiedmont.com \nSpread the word and tag someone who’s ready to build their future with Home Depot! 🧡\n#CharlottesvilleJobs #HomeDepotHiring #CareerOpportunities #VCWPiedmont #NowHiring
URL:https://vcwpiedmont.com/event/hiring-event-home-depot-3/
LOCATION:Virginia Career Works – Charlottesville Center\, 944 Glenwood Station Lane\, Suite 103\, Charlottesville\, VA\, 22901\, United States
CATEGORIES:Hiring Event
ATTACH;FMTTYPE=image/png:https://vcwpiedmont.com/wp-content/uploads/Home-Depot-Hiring-Events-scaled.webp
ORGANIZER;CN="Brookes Sims RGI":MAILTO:brookes.sims@fredgoodwill.org
END:VEVENT
END:VCALENDAR