BEGIN:VCALENDAR
VERSION:2.0
PRODID:-//Virginia Career Works Piedmont Region - ECPv6.15.20//NONSGML v1.0//EN
CALSCALE:GREGORIAN
METHOD:PUBLISH
X-WR-CALNAME:Virginia Career Works Piedmont Region
X-ORIGINAL-URL:https://vcwpiedmont.com
X-WR-CALDESC:Events for Virginia Career Works Piedmont Region
REFRESH-INTERVAL;VALUE=DURATION:PT1H
X-Robots-Tag:noindex
X-PUBLISHED-TTL:PT1H
BEGIN:VTIMEZONE
TZID:America/New_York
BEGIN:DAYLIGHT
TZOFFSETFROM:-0500
TZOFFSETTO:-0400
TZNAME:EDT
DTSTART:20240310T070000
END:DAYLIGHT
BEGIN:STANDARD
TZOFFSETFROM:-0400
TZOFFSETTO:-0500
TZNAME:EST
DTSTART:20241103T060000
END:STANDARD
BEGIN:DAYLIGHT
TZOFFSETFROM:-0500
TZOFFSETTO:-0400
TZNAME:EDT
DTSTART:20250309T070000
END:DAYLIGHT
BEGIN:STANDARD
TZOFFSETFROM:-0400
TZOFFSETTO:-0500
TZNAME:EST
DTSTART:20251102T060000
END:STANDARD
BEGIN:DAYLIGHT
TZOFFSETFROM:-0500
TZOFFSETTO:-0400
TZNAME:EDT
DTSTART:20260308T070000
END:DAYLIGHT
BEGIN:STANDARD
TZOFFSETFROM:-0400
TZOFFSETTO:-0500
TZNAME:EST
DTSTART:20261101T060000
END:STANDARD
END:VTIMEZONE
BEGIN:VEVENT
DTSTART;TZID=America/New_York:20250723T100000
DTEND;TZID=America/New_York:20250723T140000
DTSTAMP:20260419T141251
CREATED:20250626T151845Z
LAST-MODIFIED:20250715T192221Z
UID:24867-1753264800-1753279200@vcwpiedmont.com
SUMMARY:Hiring Event: Labor Finders
DESCRIPTION:🔨 Looking for Flexible Work? We’ve got you covered! \nJoin us at the Virginia Career Works – Charlottesville Center for a Labor Finders Hiring Event on Wednesday\, July 23rd\, from 10:00 AM to 2:00 PM! \nLabor Finders is connecting with job seekers interested in temporary opportunities — from general labor to skilled positions across a variety of industries. \n📍 Location: Virginia Career Works – Charlottesville Center\n📅 Date: July 23\, 2025\n🕙 Time: 10:00 AM – 2:00 PM \nWhether you’re looking for short-term gigs or a foot in the door to something more\, this is a great chance to explore your options and get hired fast! \n📣 Please share with anyone who might be interested in flexible or short-term work. \n#CharlottesvilleJobs #LaborFinders #HiringEvent #JobFair #VCWPiedmont #NowHiring
URL:https://vcwpiedmont.com/event/hiring-event-labor-finders/
LOCATION:Virginia Career Works – Charlottesville Center\, 944 Glenwood Station Lane\, Suite 103\, Charlottesville\, VA\, 22901\, United States
CATEGORIES:Hiring Event
ATTACH;FMTTYPE=image/png:https://vcwpiedmont.com/wp-content/uploads/LGTW_NOW-Hiring-Flyer_editable-scaled.webp
ORGANIZER;CN="Brookes Sims RGI":MAILTO:brookes.sims@fredgoodwill.org
END:VEVENT
END:VCALENDAR