BEGIN:VCALENDAR
VERSION:2.0
PRODID:-//Virginia Career Works Piedmont Region - ECPv6.15.20//NONSGML v1.0//EN
CALSCALE:GREGORIAN
METHOD:PUBLISH
X-WR-CALNAME:Virginia Career Works Piedmont Region
X-ORIGINAL-URL:https://vcwpiedmont.com
X-WR-CALDESC:Events for Virginia Career Works Piedmont Region
REFRESH-INTERVAL;VALUE=DURATION:PT1H
X-Robots-Tag:noindex
X-PUBLISHED-TTL:PT1H
BEGIN:VTIMEZONE
TZID:America/New_York
BEGIN:DAYLIGHT
TZOFFSETFROM:-0500
TZOFFSETTO:-0400
TZNAME:EDT
DTSTART:20240310T070000
END:DAYLIGHT
BEGIN:STANDARD
TZOFFSETFROM:-0400
TZOFFSETTO:-0500
TZNAME:EST
DTSTART:20241103T060000
END:STANDARD
BEGIN:DAYLIGHT
TZOFFSETFROM:-0500
TZOFFSETTO:-0400
TZNAME:EDT
DTSTART:20250309T070000
END:DAYLIGHT
BEGIN:STANDARD
TZOFFSETFROM:-0400
TZOFFSETTO:-0500
TZNAME:EST
DTSTART:20251102T060000
END:STANDARD
BEGIN:DAYLIGHT
TZOFFSETFROM:-0500
TZOFFSETTO:-0400
TZNAME:EDT
DTSTART:20260308T070000
END:DAYLIGHT
BEGIN:STANDARD
TZOFFSETFROM:-0400
TZOFFSETTO:-0500
TZNAME:EST
DTSTART:20261101T060000
END:STANDARD
END:VTIMEZONE
BEGIN:VEVENT
DTSTART;TZID=America/New_York:20250812T100000
DTEND;TZID=America/New_York:20250812T140000
DTSTAMP:20260419T093838
CREATED:20250716T184022Z
LAST-MODIFIED:20250801T193508Z
UID:25034-1754992800-1755007200@vcwpiedmont.com
SUMMARY:Hiring Event: Hospice of the Piedmont
DESCRIPTION:🌟 Now Hiring: Make a Difference with Hospice of the Piedmont! 🌟 \nLooking for a meaningful career in healthcare? Join Hospice of the Piedmont’s August 12 Hiring Event and explore opportunities to serve our community with compassion and care. \n📍 Career and Workforce Innovation Campus: 944 Glenwood Station Lane\, Charlottesville\, VA 22901\n📅 Tuesday\, August 12\, 2025\n🕙 10:00 AM-2:00 PM \n💼 Hiring for various positions across the service area! \nWhether you’re just starting your career or looking to grow in a purpose-driven organization\, this is your chance to connect directly with hiring managers. \n🔗 Learn more: https://hopva.org/careers/
URL:https://vcwpiedmont.com/event/hiring-event-hospice-of-the-piedmont/
LOCATION:Virginia Career Works – Charlottesville Center\, 944 Glenwood Station Lane\, Suite 103\, Charlottesville\, VA\, 22901\, United States
CATEGORIES:Hiring Event
ATTACH;FMTTYPE=image/png:https://vcwpiedmont.com/wp-content/uploads/Hospice-of-the-Piedmont-Hiring-Event-081225-scaled.webp
ORGANIZER;CN="Brookes Sims RGI":MAILTO:brookes.sims@fredgoodwill.org
END:VEVENT
END:VCALENDAR