BEGIN:VCALENDAR
VERSION:2.0
PRODID:-//Virginia Career Works Piedmont Region - ECPv6.15.20//NONSGML v1.0//EN
CALSCALE:GREGORIAN
METHOD:PUBLISH
X-WR-CALNAME:Virginia Career Works Piedmont Region
X-ORIGINAL-URL:https://vcwpiedmont.com
X-WR-CALDESC:Events for Virginia Career Works Piedmont Region
REFRESH-INTERVAL;VALUE=DURATION:PT1H
X-Robots-Tag:noindex
X-PUBLISHED-TTL:PT1H
BEGIN:VTIMEZONE
TZID:America/New_York
BEGIN:DAYLIGHT
TZOFFSETFROM:-0500
TZOFFSETTO:-0400
TZNAME:EDT
DTSTART:20240310T070000
END:DAYLIGHT
BEGIN:STANDARD
TZOFFSETFROM:-0400
TZOFFSETTO:-0500
TZNAME:EST
DTSTART:20241103T060000
END:STANDARD
BEGIN:DAYLIGHT
TZOFFSETFROM:-0500
TZOFFSETTO:-0400
TZNAME:EDT
DTSTART:20250309T070000
END:DAYLIGHT
BEGIN:STANDARD
TZOFFSETFROM:-0400
TZOFFSETTO:-0500
TZNAME:EST
DTSTART:20251102T060000
END:STANDARD
BEGIN:DAYLIGHT
TZOFFSETFROM:-0500
TZOFFSETTO:-0400
TZNAME:EDT
DTSTART:20260308T070000
END:DAYLIGHT
BEGIN:STANDARD
TZOFFSETFROM:-0400
TZOFFSETTO:-0500
TZNAME:EST
DTSTART:20261101T060000
END:STANDARD
END:VTIMEZONE
BEGIN:VEVENT
DTSTART;TZID=America/New_York:20250821T100000
DTEND;TZID=America/New_York:20250821T130000
DTSTAMP:20260425T122800
CREATED:20250801T194004Z
LAST-MODIFIED:20250812T182806Z
UID:25182-1755770400-1755781200@vcwpiedmont.com
SUMMARY:POSTPONED: Hiring Event: UVA Temps
DESCRIPTION:This event has been postponed. \nUVA Temps identify and place a diverse labor force of uniquely qualified candidates in a range of critical\, temporary positions across the Academic Division\, UVA Health\, and University Physicians Group as well as Foundations affiliated with UVA \nFor assistance: Email brookes.sims@fredgoodwill.org or call 434-529-6828 TDD: VA Relay Center: 711
URL:https://vcwpiedmont.com/event/hiring-event-uva-temps-6/
LOCATION:VA
CATEGORIES:Hiring Event
ORGANIZER;CN="Brookes Sims RGI":MAILTO:brookes.sims@fredgoodwill.org
END:VEVENT
BEGIN:VEVENT
DTSTART;TZID=America/New_York:20250821T100000
DTEND;TZID=America/New_York:20250821T140000
DTSTAMP:20260425T122800
CREATED:20250813T174208Z
LAST-MODIFIED:20250813T174208Z
UID:25255-1755770400-1755784800@vcwpiedmont.com
SUMMARY:Hiring Event: The Chimney Guys
DESCRIPTION:🚨 Hiring Event Alert! 🚨 Looking for a new opportunity? The Chimney Guys are hiring and will be at the Virginia Career Works Center on Thursday\, August 21st from 10 AM to 2 PM! \nThey’re looking to fill the following positions: 🔧 Repair & Install Technicians\n📞 Customer Service Representative \n📍 Location: 944 Glenwood Station Ln\, Suite 103\, Charlottesville\, VA\n📅 Date: Thursday\, August 21st\n🕙 Time: 10:00 AM-2:00 PM \nStop by to meet the team\, learn more\, and explore your next career move with a local employer!
URL:https://vcwpiedmont.com/event/hiring-event-the-chimney-guys/
LOCATION:Virginia Career Works – Charlottesville Center\, 944 Glenwood Station Lane\, Suite 103\, Charlottesville\, VA\, 22901\, United States
CATEGORIES:Hiring Event
ATTACH;FMTTYPE=image/png:https://vcwpiedmont.com/wp-content/uploads/The-Chimney-Guys-Hiring-Event-082125-scaled.webp
ORGANIZER;CN="Brookes Sims RGI":MAILTO:brookes.sims@fredgoodwill.org
END:VEVENT
END:VCALENDAR