BEGIN:VCALENDAR
VERSION:2.0
PRODID:-//Virginia Career Works Piedmont Region - ECPv6.15.20//NONSGML v1.0//EN
CALSCALE:GREGORIAN
METHOD:PUBLISH
X-WR-CALNAME:Virginia Career Works Piedmont Region
X-ORIGINAL-URL:https://vcwpiedmont.com
X-WR-CALDESC:Events for Virginia Career Works Piedmont Region
REFRESH-INTERVAL;VALUE=DURATION:PT1H
X-Robots-Tag:noindex
X-PUBLISHED-TTL:PT1H
BEGIN:VTIMEZONE
TZID:UTC
BEGIN:STANDARD
TZOFFSETFROM:+0000
TZOFFSETTO:+0000
TZNAME:UTC
DTSTART:20210101T000000
END:STANDARD
END:VTIMEZONE
BEGIN:VTIMEZONE
TZID:America/New_York
BEGIN:DAYLIGHT
TZOFFSETFROM:-0500
TZOFFSETTO:-0400
TZNAME:EDT
DTSTART:20220313T070000
END:DAYLIGHT
BEGIN:STANDARD
TZOFFSETFROM:-0400
TZOFFSETTO:-0500
TZNAME:EST
DTSTART:20221106T060000
END:STANDARD
BEGIN:DAYLIGHT
TZOFFSETFROM:-0500
TZOFFSETTO:-0400
TZNAME:EDT
DTSTART:20230312T070000
END:DAYLIGHT
BEGIN:STANDARD
TZOFFSETFROM:-0400
TZOFFSETTO:-0500
TZNAME:EST
DTSTART:20231105T060000
END:STANDARD
BEGIN:DAYLIGHT
TZOFFSETFROM:-0500
TZOFFSETTO:-0400
TZNAME:EDT
DTSTART:20240310T070000
END:DAYLIGHT
BEGIN:STANDARD
TZOFFSETFROM:-0400
TZOFFSETTO:-0500
TZNAME:EST
DTSTART:20241103T060000
END:STANDARD
END:VTIMEZONE
BEGIN:VEVENT
DTSTART;TZID=UTC:20220318T000000
DTEND;TZID=UTC:20220429T233000
DTSTAMP:20260421T112041
CREATED:20220323T152240Z
LAST-MODIFIED:20220323T152240Z
UID:21195-1647561600-1651275000@vcwpiedmont.com
SUMMARY:OPEN APPLICATION: UVA Facilities Management - Apprenticeship Program
DESCRIPTION:The Apprenticeship Program of Facilities Management at the University of Virginia is now accepting applications for its highly regarded Apprenticeship Program. For anyone who has been looking for a career in the trades\, this is the opportunity to do so while working as a full-time\, benefits-eligible employee of UVA. Training will consist of rotations in Facilities Management departments throughout the University\, including maintenance\, repair\, new construction\, utilities\, and industrial systems\, to equip apprentices with a broad range of skills to support University construction and maintenance needs. Apprentices are required to attend classes one or two nights a week while working full-time and must achieve grades of ‘B’ or better\, with mandatory attendance.Online applications will be accepted until April 29\, 2022. The candidates selected for hire will start work on mid-July\, 2022. Applicants must possess a high school diploma or equivalent by that start date of the position. Selected candidates will pass a background check and a health screen.If you know anyone who might be interested in a UVA apprenticeship in the skilled trades\, please share this information with them. \nFor program information: https://apprenticeship.fm.virginia.edu/application.htmlTo apply:  https://uva.wd1.myworkdayjobs.com/UVAJobs and search for “Apprenticeship Program” (requisition number R0034204). \nIf you have any questions\, please do not hesitate to contact Michele Jarman\, emj2us@virginia.edu
URL:https://vcwpiedmont.com/event/open-application-uva-facilities-management-apprenticeship-program/
LOCATION:Charlottesville\, VA\, United States
CATEGORIES:Hiring Event
END:VEVENT
BEGIN:VEVENT
DTSTART;TZID=UTC:20220428T160000
DTEND;TZID=UTC:20220428T170000
DTSTAMP:20260421T112041
CREATED:20220317T144247Z
LAST-MODIFIED:20220317T144531Z
UID:21141-1651161600-1651165200@vcwpiedmont.com
SUMMARY:(VIRTUAL) Learn about Customer Service: Learn about Training Opportunities
DESCRIPTION:Join the Department of Aging and Rehabilitative Services to hear about exciting career opportunities in customer service. If you have any questions please contact Kate Kaegi at Kate.Kaegi@dars.virginia.gov
URL:https://vcwpiedmont.com/event/virtual-career-cafe-learn-about-customer-service/
LOCATION:Charlottesville\, VA\, United States
CATEGORIES:Hiring Event
END:VEVENT
BEGIN:VEVENT
DTSTART;TZID=UTC:20220526T160000
DTEND;TZID=UTC:20220526T170000
DTSTAMP:20260421T112041
CREATED:20220317T144626Z
LAST-MODIFIED:20220317T144626Z
UID:21143-1653580800-1653584400@vcwpiedmont.com
SUMMARY:(VIRTUAL) Learn about Customer Service: Talk to Employees
DESCRIPTION:Join the Department of Aging and Rehabilitative Services to hear about exciting career opportunities in customer service. If you have any questions please contact Kate Kaegi at Kate.Kaegi@dars.virginia.gov
URL:https://vcwpiedmont.com/event/virtual-learn-about-customer-service-talk-to-employees/
LOCATION:Charlottesville\, VA\, United States
CATEGORIES:Hiring Event
END:VEVENT
BEGIN:VEVENT
DTSTART;TZID=UTC:20220728T080000
DTEND;TZID=UTC:20220728T170000
DTSTAMP:20260421T112041
CREATED:20220317T144819Z
LAST-MODIFIED:20220317T144819Z
UID:21148-1658995200-1659027600@vcwpiedmont.com
SUMMARY:(VIRTUAL) Learn about Health Services: Learn about Training Options
DESCRIPTION:Join the Department of Aging and Rehabilitative Services to hear about exciting career opportunities in customer service. If you have any questions please contact Kate Kaegi at Kate.Kaegi@dars.virginia.gov
URL:https://vcwpiedmont.com/event/virtual-learn-about-health-services-learn-about-training-options/
LOCATION:Charlottesville\, VA\, United States
CATEGORIES:Hiring Event
END:VEVENT
BEGIN:VEVENT
DTSTART;TZID=America/New_York:20230315T100000
DTEND;TZID=America/New_York:20230315T140000
DTSTAMP:20260421T112041
CREATED:20230314T151104Z
LAST-MODIFIED:20230314T151104Z
UID:21795-1678874400-1678888800@vcwpiedmont.com
SUMMARY:UVA Temps Hiring Event
DESCRIPTION:
URL:https://vcwpiedmont.com/event/uva-temps-hiring-event/
LOCATION:Charlottesville\, VA\, United States
CATEGORIES:Hiring Event
ORGANIZER;CN="Philip Samuel":MAILTO:philip.samuel@vec.virginia.gov
END:VEVENT
BEGIN:VEVENT
DTSTART;TZID=America/New_York:20230316T100000
DTEND;TZID=America/New_York:20230316T140000
DTSTAMP:20260421T112041
CREATED:20230314T150839Z
LAST-MODIFIED:20230314T150839Z
UID:21787-1678960800-1678975200@vcwpiedmont.com
SUMMARY:Albemarle County Public Schools Hiring Event
DESCRIPTION:3-16-23 Albemarle Hiring Event (1)
URL:https://vcwpiedmont.com/event/albemarle-county-public-schools-hiring-event/
LOCATION:Virginia Career Works–Charlottesville Center\, 944 Glenwood Station\, Suite 103\, Charlottesville\, VA\, 22901\, United States
CATEGORIES:Hiring Event,Job Fairs
ORGANIZER;CN="Philip Samuel":MAILTO:philip.samuel@vec.virginia.gov
END:VEVENT
BEGIN:VEVENT
DTSTART;TZID=America/New_York:20230323T100000
DTEND;TZID=America/New_York:20230323T140000
DTSTAMP:20260421T112041
CREATED:20230314T151238Z
LAST-MODIFIED:20230314T151238Z
UID:21812-1679565600-1679580000@vcwpiedmont.com
SUMMARY:USPS Hiring Event
DESCRIPTION:
URL:https://vcwpiedmont.com/event/usps-hiring-event/
LOCATION:Virginia Career Works–Charlottesville Center\, 944 Glenwood Station\, Suite 103\, Charlottesville\, VA\, 22901\, United States
CATEGORIES:Hiring Event
ORGANIZER;CN="Philip Samuel":MAILTO:philip.samuel@vec.virginia.gov
END:VEVENT
BEGIN:VEVENT
DTSTART;TZID=America/New_York:20230605T100000
DTEND;TZID=America/New_York:20230605T140000
DTSTAMP:20260421T112041
CREATED:20230525T143500Z
LAST-MODIFIED:20230525T144413Z
UID:21924-1685959200-1685973600@vcwpiedmont.com
SUMMARY:Serenity C&C Hiring Event
DESCRIPTION:Hiring for Full-Time Sponsored Residential Providers
URL:https://vcwpiedmont.com/event/serenity-cc-hiring-event/
LOCATION:Career and Workforce Innovation Campus (944)\, 944 Glenwood Station Lane\, Suite 103\, Charlottesville\, VA\, 22901\, United States
CATEGORIES:Hiring Event
ORGANIZER;CN="Philip Samuel":MAILTO:philip.samuel@vec.virginia.gov
END:VEVENT
BEGIN:VEVENT
DTSTART;TZID=America/New_York:20230606T100000
DTEND;TZID=America/New_York:20230606T140000
DTSTAMP:20260421T112041
CREATED:20230525T143500Z
LAST-MODIFIED:20230525T144413Z
UID:21931-1686045600-1686060000@vcwpiedmont.com
SUMMARY:Serenity C&C Hiring Event
DESCRIPTION:Hiring for Full-Time Sponsored Residential Providers
URL:https://vcwpiedmont.com/event/serenity-cc-hiring-event-2023-06-06/
LOCATION:Career and Workforce Innovation Campus (944)\, 944 Glenwood Station Lane\, Suite 103\, Charlottesville\, VA\, 22901\, United States
CATEGORIES:Hiring Event
ORGANIZER;CN="Philip Samuel":MAILTO:philip.samuel@vec.virginia.gov
END:VEVENT
BEGIN:VEVENT
DTSTART;TZID=America/New_York:20230612T100000
DTEND;TZID=America/New_York:20230612T140000
DTSTAMP:20260421T112041
CREATED:20230524T193950Z
LAST-MODIFIED:20230525T150924Z
UID:21900-1686564000-1686578400@vcwpiedmont.com
SUMMARY:Planned Parenthood Hiring Event
DESCRIPTION:Hiring for Full-Time Health Care Assistants
URL:https://vcwpiedmont.com/event/plan-parenthood-hiring-event/
LOCATION:Career and Workforce Innovation Campus (944)\, 944 Glenwood Station Lane\, Suite 103\, Charlottesville\, VA\, 22901\, United States
CATEGORIES:Hiring Event
ORGANIZER;CN="Philip Samuel":MAILTO:philip.samuel@vec.virginia.gov
END:VEVENT
BEGIN:VEVENT
DTSTART;TZID=America/New_York:20230616T100000
DTEND;TZID=America/New_York:20230616T140000
DTSTAMP:20260421T112041
CREATED:20230609T165716Z
LAST-MODIFIED:20230609T165716Z
UID:22066-1686909600-1686924000@vcwpiedmont.com
SUMMARY:Adecco Hiring Event
DESCRIPTION:
URL:https://vcwpiedmont.com/event/adecco-hiring-event/
LOCATION:Career and Workforce Innovation Campus (944)\, 944 Glenwood Station Lane\, Suite 103\, Charlottesville\, VA\, 22901\, United States
CATEGORIES:Hiring Event
ORGANIZER;CN="Philip Samuel":MAILTO:philip.samuel@vec.virginia.gov
END:VEVENT
BEGIN:VEVENT
DTSTART;TZID=America/New_York:20230623T100000
DTEND;TZID=America/New_York:20230623T140000
DTSTAMP:20260421T112041
CREATED:20230609T165716Z
LAST-MODIFIED:20230609T165716Z
UID:22069-1687514400-1687528800@vcwpiedmont.com
SUMMARY:Adecco Hiring Event
DESCRIPTION:
URL:https://vcwpiedmont.com/event/adecco-hiring-event-2023-06-23/
LOCATION:Career and Workforce Innovation Campus (944)\, 944 Glenwood Station Lane\, Suite 103\, Charlottesville\, VA\, 22901\, United States
CATEGORIES:Hiring Event
ORGANIZER;CN="Philip Samuel":MAILTO:philip.samuel@vec.virginia.gov
END:VEVENT
BEGIN:VEVENT
DTSTART;TZID=America/New_York:20230626T100000
DTEND;TZID=America/New_York:20230626T140000
DTSTAMP:20260421T112041
CREATED:20230623T162759Z
LAST-MODIFIED:20230623T164343Z
UID:22120-1687773600-1687788000@vcwpiedmont.com
SUMMARY:UVA Temps Hiring Event
DESCRIPTION:
URL:https://vcwpiedmont.com/event/uva-temps-hiring-event-2/
LOCATION:Career and Workforce Innovation Campus (944)\, 944 Glenwood Station Lane\, Suite 103\, Charlottesville\, VA\, 22901\, United States
CATEGORIES:Hiring Event
ORGANIZER;CN="Brookes Sims":MAILTO:bsims@goodwillvalleys.com
END:VEVENT
BEGIN:VEVENT
DTSTART;TZID=America/New_York:20230627T100000
DTEND;TZID=America/New_York:20230627T140000
DTSTAMP:20260421T112041
CREATED:20230623T162843Z
LAST-MODIFIED:20230623T164225Z
UID:22122-1687860000-1687874400@vcwpiedmont.com
SUMMARY:BrightSpring Health Services Hiring Event
DESCRIPTION:
URL:https://vcwpiedmont.com/event/brightspring-health-services-hiring-event/
LOCATION:Career and Workforce Innovation Campus (944)\, 944 Glenwood Station Lane\, Suite 103\, Charlottesville\, VA\, 22901\, United States
CATEGORIES:Hiring Event
ORGANIZER;CN="Brookes Sims":MAILTO:bsims@goodwillvalleys.com
END:VEVENT
BEGIN:VEVENT
DTSTART;TZID=America/New_York:20230711T100000
DTEND;TZID=America/New_York:20230711T140000
DTSTAMP:20260421T112041
CREATED:20230620T132237Z
LAST-MODIFIED:20230620T132246Z
UID:22108-1689069600-1689084000@vcwpiedmont.com
SUMMARY:Morrison Healthcare @ UVA Health Hiring Event
DESCRIPTION:
URL:https://vcwpiedmont.com/event/morrison-healthcare-uva-health-hiring-event/
LOCATION:Career and Workforce Innovation Campus (944)\, 944 Glenwood Station Lane\, Suite 103\, Charlottesville\, VA\, 22901\, United States
CATEGORIES:Hiring Event
ORGANIZER;CN="Brookes Sims":MAILTO:bsims@goodwillvalleys.com
END:VEVENT
BEGIN:VEVENT
DTSTART;TZID=America/New_York:20230728T100000
DTEND;TZID=America/New_York:20230728T140000
DTSTAMP:20260421T112041
CREATED:20230720T200527Z
LAST-MODIFIED:20230720T200906Z
UID:22235-1690538400-1690552800@vcwpiedmont.com
SUMMARY:Food Lion Hiring Event
DESCRIPTION:
URL:https://vcwpiedmont.com/event/food-lion-hiring-event/
LOCATION:Career and Workforce Innovation Campus (944)\, 944 Glenwood Station Lane\, Suite 103\, Charlottesville\, VA\, 22901\, United States
CATEGORIES:Hiring Event
ORGANIZER;CN="Brookes Sims":MAILTO:bsims@goodwillvalleys.com
END:VEVENT
BEGIN:VEVENT
DTSTART;TZID=America/New_York:20230729T090000
DTEND;TZID=America/New_York:20230729T130000
DTSTAMP:20260421T112041
CREATED:20230726T183553Z
LAST-MODIFIED:20230726T183553Z
UID:22269-1690621200-1690635600@vcwpiedmont.com
SUMMARY:VADOC - Fluvanna Correctional Center for Women Hiring Event
DESCRIPTION:
URL:https://vcwpiedmont.com/event/vadoc-fluvanna-correctional-center-for-women-hiring-event/
LOCATION:Fluvanna Correctional Center for Women\, 144 Prison Lane\, Troy\, VA\, 22974\, United States
CATEGORIES:Hiring Event
END:VEVENT
BEGIN:VEVENT
DTSTART;TZID=America/New_York:20230801T100000
DTEND;TZID=America/New_York:20230801T140000
DTSTAMP:20260421T112041
CREATED:20230720T200847Z
LAST-MODIFIED:20230720T200847Z
UID:22238-1690884000-1690898400@vcwpiedmont.com
SUMMARY:Jones Heating & Air Hiring Event
DESCRIPTION:
URL:https://vcwpiedmont.com/event/jones-heating-air-hiring-event/
LOCATION:City Space\, 100 Fifth St NE\, Charlottesville\, VA\, 22902\, United States
CATEGORIES:Hiring Event
ORGANIZER;CN="Brookes Sims":MAILTO:bsims@goodwillvalleys.com
END:VEVENT
BEGIN:VEVENT
DTSTART;TZID=America/New_York:20230912T120000
DTEND;TZID=America/New_York:20230912T160000
DTSTAMP:20260421T112041
CREATED:20230914T190044Z
LAST-MODIFIED:20230914T190054Z
UID:22434-1694520000-1694534400@vcwpiedmont.com
SUMMARY:Hiring Event for Brittany's Transit Services
DESCRIPTION:
URL:https://vcwpiedmont.com/event/hiring-event-for-brittanys-transit-services/
LOCATION:Career and Workforce Innovation Campus (944)\, 944 Glenwood Station Lane\, Suite 103\, Charlottesville\, VA\, 22901\, United States
CATEGORIES:Hiring Event
END:VEVENT
BEGIN:VEVENT
DTSTART;TZID=America/New_York:20230914T140000
DTEND;TZID=America/New_York:20230914T160000
DTSTAMP:20260421T112041
CREATED:20230914T192751Z
LAST-MODIFIED:20230914T192824Z
UID:22442-1694700000-1694707200@vcwpiedmont.com
SUMMARY:USPS Hiring Event
DESCRIPTION:
URL:https://vcwpiedmont.com/event/usps-hiring-event-3/
LOCATION:Career and Workforce Innovation Campus (944)\, 944 Glenwood Station Lane\, Suite 103\, Charlottesville\, VA\, 22901\, United States
CATEGORIES:Hiring Event
ORGANIZER;CN="Philip Samuel":MAILTO:philip.samuel@vec.virginia.gov
END:VEVENT
BEGIN:VEVENT
DTSTART;TZID=America/New_York:20230921T140000
DTEND;TZID=America/New_York:20230921T160000
DTSTAMP:20260421T112041
CREATED:20230914T192751Z
LAST-MODIFIED:20230914T192751Z
UID:22447-1695304800-1695312000@vcwpiedmont.com
SUMMARY:USPS Hiring Event
DESCRIPTION:
URL:https://vcwpiedmont.com/event/usps-hiring-event-3-2023-09-21/
LOCATION:Career and Workforce Innovation Campus (944)\, 944 Glenwood Station Lane\, Suite 103\, Charlottesville\, VA\, 22901\, United States
CATEGORIES:Hiring Event
ORGANIZER;CN="Philip Samuel":MAILTO:philip.samuel@vec.virginia.gov
END:VEVENT
BEGIN:VEVENT
DTSTART;TZID=America/New_York:20230927T163000
DTEND;TZID=America/New_York:20230927T183000
DTSTAMP:20260421T112041
CREATED:20230821T162854Z
LAST-MODIFIED:20230830T233944Z
UID:22345-1695832200-1695839400@vcwpiedmont.com
SUMMARY:Job Fair at Train Depot (Orange County)
DESCRIPTION:Orange County Economic Development in partnership with Virginia Career Works is hosting a job fair on September 27\, 2023\, at the Train Depot located at 122 East Main Street\, Orange\, VA 22960.  This hiring event will be held from 4:30 pm – 6:30 pm. \n 
URL:https://vcwpiedmont.com/event/job-fair-at-train-depot-orange-county/
LOCATION:122 East Main Street\, Orange\, VA\, 22960\, United States
CATEGORIES:Hiring Event
END:VEVENT
BEGIN:VEVENT
DTSTART;TZID=America/New_York:20230928T140000
DTEND;TZID=America/New_York:20230928T160000
DTSTAMP:20260421T112041
CREATED:20230914T192751Z
LAST-MODIFIED:20230914T192751Z
UID:22448-1695909600-1695916800@vcwpiedmont.com
SUMMARY:USPS Hiring Event
DESCRIPTION:
URL:https://vcwpiedmont.com/event/usps-hiring-event-3-2023-09-28/
LOCATION:Career and Workforce Innovation Campus (944)\, 944 Glenwood Station Lane\, Suite 103\, Charlottesville\, VA\, 22901\, United States
CATEGORIES:Hiring Event
ORGANIZER;CN="Philip Samuel":MAILTO:philip.samuel@vec.virginia.gov
END:VEVENT
BEGIN:VEVENT
DTSTART;TZID=America/New_York:20231012T090000
DTEND;TZID=America/New_York:20231012T130000
DTSTAMP:20260421T112041
CREATED:20231003T193639Z
LAST-MODIFIED:20231003T193642Z
UID:22510-1697101200-1697115600@vcwpiedmont.com
SUMMARY:VADOC Hiring Event
DESCRIPTION:
URL:https://vcwpiedmont.com/event/vadoc-hiring-event/
LOCATION:Career and Workforce Innovation Campus (944)\, 944 Glenwood Station Lane\, Suite 103\, Charlottesville\, VA\, 22901\, United States
CATEGORIES:Hiring Event
END:VEVENT
BEGIN:VEVENT
DTSTART;TZID=America/New_York:20231024T110000
DTEND;TZID=America/New_York:20231024T140000
DTSTAMP:20260421T112041
CREATED:20231016T140229Z
LAST-MODIFIED:20231016T140231Z
UID:22550-1698145200-1698156000@vcwpiedmont.com
SUMMARY:Belk Hiring Event
DESCRIPTION:
URL:https://vcwpiedmont.com/event/belk-hiring-event/
LOCATION:Career and Workforce Innovation Campus (943)\, 943 Glenwood Station Lane\, Suite 102 and 103\, Charlottesville\, VA\, 22901\, United States
CATEGORIES:Hiring Event
ORGANIZER;CN="Philip Samuel":MAILTO:philip.samuel@vec.virginia.gov
END:VEVENT
BEGIN:VEVENT
DTSTART;TZID=America/New_York:20231026T100000
DTEND;TZID=America/New_York:20231026T140000
DTSTAMP:20260421T112041
CREATED:20231017T143059Z
LAST-MODIFIED:20231017T143101Z
UID:22563-1698314400-1698328800@vcwpiedmont.com
SUMMARY:Amazon Hiring Event
DESCRIPTION:
URL:https://vcwpiedmont.com/event/amazon-hiring-event/
LOCATION:Career and Workforce Innovation Campus (944)\, 944 Glenwood Station Lane\, Suite 103\, Charlottesville\, VA\, 22901\, United States
CATEGORIES:Hiring Event
ORGANIZER;CN="Brookes Sims":MAILTO:bsims@goodwillvalleys.com
END:VEVENT
BEGIN:VEVENT
DTSTART;TZID=America/New_York:20231109T100000
DTEND;TZID=America/New_York:20231109T130000
DTSTAMP:20260421T112041
CREATED:20231106T202657Z
LAST-MODIFIED:20231106T202950Z
UID:22625-1699524000-1699534800@vcwpiedmont.com
SUMMARY:Pipeline and Pathways and Boar's Head Resort Hiring Event
DESCRIPTION:
URL:https://vcwpiedmont.com/event/pipeline-and-pathways-and-boars-head-resort-hiring-event/
LOCATION:Boar’s Head Resort HR Office\, 7 Boar's Head Lane\, Charlottesville\, VA\, 22903\, United States
CATEGORIES:Hiring Event,Job Fairs
END:VEVENT
BEGIN:VEVENT
DTSTART;TZID=America/New_York:20231214T100000
DTEND;TZID=America/New_York:20231214T140000
DTSTAMP:20260421T112041
CREATED:20231212T145216Z
LAST-MODIFIED:20231212T145217Z
UID:22672-1702548000-1702562400@vcwpiedmont.com
SUMMARY:WorkSource Hiring Event
DESCRIPTION:
URL:https://vcwpiedmont.com/event/worksource-hiring-event/
LOCATION:Career and Workforce Innovation Campus (944)\, 944 Glenwood Station Lane\, Suite 103\, Charlottesville\, VA\, 22901\, United States
CATEGORIES:Hiring Event
ORGANIZER;CN="Brookes Sims":MAILTO:bsims@goodwillvalleys.com
END:VEVENT
BEGIN:VEVENT
DTSTART;TZID=America/New_York:20231214T140000
DTEND;TZID=America/New_York:20231214T160000
DTSTAMP:20260421T112041
CREATED:20231212T144951Z
LAST-MODIFIED:20231212T144953Z
UID:22667-1702562400-1702569600@vcwpiedmont.com
SUMMARY:USPS Hiring Event
DESCRIPTION:
URL:https://vcwpiedmont.com/event/usps-hiring-event-4/
LOCATION:Career and Workforce Innovation Campus (944)\, 944 Glenwood Station Lane\, Suite 103\, Charlottesville\, VA\, 22901\, United States
CATEGORIES:Hiring Event
ORGANIZER;CN="Brookes Sims":MAILTO:brookes.sims@fredgoodwill.org
END:VEVENT
BEGIN:VEVENT
DTSTART;TZID=America/New_York:20231219T120000
DTEND;TZID=America/New_York:20231219T140000
DTSTAMP:20260421T112041
CREATED:20231212T173701Z
LAST-MODIFIED:20231212T173704Z
UID:22687-1702987200-1702994400@vcwpiedmont.com
SUMMARY:Tiger Fuel Hiring Event
DESCRIPTION:
URL:https://vcwpiedmont.com/event/tiger-fuel-hiring-event/
LOCATION:Career and Workforce Innovation Campus (944)\, 944 Glenwood Station Lane\, Suite 103\, Charlottesville\, VA\, 22901\, United States
CATEGORIES:Hiring Event
ORGANIZER;CN="Brookes Sims":MAILTO:bsims@goodwillvalleys.com
END:VEVENT
END:VCALENDAR