BEGIN:VCALENDAR
VERSION:2.0
PRODID:-//Virginia Career Works Piedmont Region - ECPv6.15.20//NONSGML v1.0//EN
CALSCALE:GREGORIAN
METHOD:PUBLISH
X-WR-CALNAME:Virginia Career Works Piedmont Region
X-ORIGINAL-URL:https://vcwpiedmont.com
X-WR-CALDESC:Events for Virginia Career Works Piedmont Region
REFRESH-INTERVAL;VALUE=DURATION:PT1H
X-Robots-Tag:noindex
X-PUBLISHED-TTL:PT1H
BEGIN:VTIMEZONE
TZID:America/New_York
BEGIN:DAYLIGHT
TZOFFSETFROM:-0500
TZOFFSETTO:-0400
TZNAME:EDT
DTSTART:20250309T070000
END:DAYLIGHT
BEGIN:STANDARD
TZOFFSETFROM:-0400
TZOFFSETTO:-0500
TZNAME:EST
DTSTART:20251102T060000
END:STANDARD
BEGIN:DAYLIGHT
TZOFFSETFROM:-0500
TZOFFSETTO:-0400
TZNAME:EDT
DTSTART:20260308T070000
END:DAYLIGHT
BEGIN:STANDARD
TZOFFSETFROM:-0400
TZOFFSETTO:-0500
TZNAME:EST
DTSTART:20261101T060000
END:STANDARD
BEGIN:DAYLIGHT
TZOFFSETFROM:-0500
TZOFFSETTO:-0400
TZNAME:EDT
DTSTART:20270314T070000
END:DAYLIGHT
BEGIN:STANDARD
TZOFFSETFROM:-0400
TZOFFSETTO:-0500
TZNAME:EST
DTSTART:20271107T060000
END:STANDARD
END:VTIMEZONE
BEGIN:VEVENT
DTSTART;TZID=America/New_York:20260429T093000
DTEND;TZID=America/New_York:20260429T160000
DTSTAMP:20260419T111816
CREATED:20260401T151242Z
LAST-MODIFIED:20260401T151242Z
UID:27991-1777455000-1777478400@vcwpiedmont.com
SUMMARY:Outreach: Gordonsville Library
DESCRIPTION:Tuesdays: Orange County Library\nWednesdays: Gordonsville Library\nThursdays: Wilderness Library \nFor Job Seekers:\nCareer Advancement\nJob Leads by Industry\nResume Writing Assistance\nInterview Preparation\nConnections to Local Employers\nCareer Pathway Initiatives\nFunding for Training \nFor Employers:\nPost Job Openings\nOn-site Recruitment\nHiring Events\nLabor Market Information\nEmployee Development\nContact Information: \nEmail: elizabeth.smith@fredgoodwill.org\nPhone: (540) 212-4570\, option 3 \nThe Virginia Career Works – Piedmont Region is an equal opportunity employer/program. Auxiliary aids and services are available upon request to individuals with disabilities. TDD-VA Relay: 711. Interpreters are available upon request. EO Officer.
URL:https://vcwpiedmont.com/event/outreach-gordonsville-library-32/
LOCATION:Gordonsville Library\, 319 North Main Street\, Gordonsville\, VA\, 22942\, United States
CATEGORIES:Pop Up Event
ORGANIZER;CN="Elizabeth Smith%2C RGI":MAILTO:elizabeth.smith@fredgoodwill.org
END:VEVENT
END:VCALENDAR