BEGIN:VCALENDAR
VERSION:2.0
PRODID:-//Virginia Career Works Piedmont Region - ECPv6.15.20//NONSGML v1.0//EN
CALSCALE:GREGORIAN
METHOD:PUBLISH
X-ORIGINAL-URL:https://vcwpiedmont.com
X-WR-CALDESC:Events for Virginia Career Works Piedmont Region
REFRESH-INTERVAL;VALUE=DURATION:PT1H
X-Robots-Tag:noindex
X-PUBLISHED-TTL:PT1H
BEGIN:VTIMEZONE
TZID:America/New_York
BEGIN:DAYLIGHT
TZOFFSETFROM:-0500
TZOFFSETTO:-0400
TZNAME:EDT
DTSTART:20240310T070000
END:DAYLIGHT
BEGIN:STANDARD
TZOFFSETFROM:-0400
TZOFFSETTO:-0500
TZNAME:EST
DTSTART:20241103T060000
END:STANDARD
BEGIN:DAYLIGHT
TZOFFSETFROM:-0500
TZOFFSETTO:-0400
TZNAME:EDT
DTSTART:20250309T070000
END:DAYLIGHT
BEGIN:STANDARD
TZOFFSETFROM:-0400
TZOFFSETTO:-0500
TZNAME:EST
DTSTART:20251102T060000
END:STANDARD
BEGIN:DAYLIGHT
TZOFFSETFROM:-0500
TZOFFSETTO:-0400
TZNAME:EDT
DTSTART:20260308T070000
END:DAYLIGHT
BEGIN:STANDARD
TZOFFSETFROM:-0400
TZOFFSETTO:-0500
TZNAME:EST
DTSTART:20261101T060000
END:STANDARD
END:VTIMEZONE
BEGIN:VEVENT
DTSTART;TZID=America/New_York:20250107T100000
DTEND;TZID=America/New_York:20250107T140000
DTSTAMP:20260421T154505
CREATED:20250106T172040Z
LAST-MODIFIED:20250106T172040Z
UID:23677-1736244000-1736258400@vcwpiedmont.com
SUMMARY:DoMa Transits Hiring Event
DESCRIPTION:For assistance: Email brookes.sims@fredgoodwill.org or call 434-529-6828 TDD: VA Relay Center: 711
URL:https://vcwpiedmont.com/event/doma-transits-hiring-event/
CATEGORIES:Hiring Event
ORGANIZER;CN="Brookes Sims RGI":MAILTO:brookes.sims@fredgoodwill.org
END:VEVENT
BEGIN:VEVENT
DTSTART;TZID=America/New_York:20250107T130000
DTEND;TZID=America/New_York:20250107T140000
DTSTAMP:20260421T154505
CREATED:20250106T172042Z
LAST-MODIFIED:20250106T172042Z
UID:23678-1736254800-1736258400@vcwpiedmont.com
SUMMARY:Virtual Financial Literacy Workshop
DESCRIPTION:For assistance: Email brookes.sims@fredgoodwill.org or call 434-529-6828 TDD: VA Relay Center: 711. For Culpeper area residents\, please contact jason.ford@fredgoodwill.org.
URL:https://vcwpiedmont.com/event/virtual-financial-literacy-workshop/
CATEGORIES:Workshops
ORGANIZER;CN="Brookes Sims RGI":MAILTO:brookes.sims@fredgoodwill.org
END:VEVENT
BEGIN:VEVENT
DTSTART;TZID=America/New_York:20250108T100000
DTEND;TZID=America/New_York:20250108T120000
DTSTAMP:20260421T154505
CREATED:20250106T172043Z
LAST-MODIFIED:20250106T172043Z
UID:23679-1736330400-1736337600@vcwpiedmont.com
SUMMARY:DARS Walk-In Intake
DESCRIPTION:The Virginia Department for Aging and Rehabilitative Services (DARS) provides services to help Virginians with disabilities prepare for\, secure\, retain or regain employment and become more independent and self-sufficient.\nFor Workshop enrollment assistance: Email brookes.sims@fredgoodwill.org or call 434-529-6828 TDD: VA Relay Center: 711
URL:https://vcwpiedmont.com/event/dars-walk-in-intake-5/
CATEGORIES:Open House
ORGANIZER;CN="Brookes Sims RGI":MAILTO:brookes.sims@fredgoodwill.org
END:VEVENT
BEGIN:VEVENT
DTSTART;TZID=America/New_York:20250108T100000
DTEND;TZID=America/New_York:20250108T120000
DTSTAMP:20260421T154505
CREATED:20250106T172047Z
LAST-MODIFIED:20250106T172047Z
UID:23683-1736330400-1736337600@vcwpiedmont.com
SUMMARY:Ready to Work/GO Programs Pop Up
DESCRIPTION:For assistance: Email brookes.sims@fredgoodwill.org or call 434-529-6828 TDD: VA Relay Center: 711
URL:https://vcwpiedmont.com/event/ready-to-work-go-programs-pop-up/
CATEGORIES:Workshops
ORGANIZER;CN="Brookes Sims RGI":MAILTO:brookes.sims@fredgoodwill.org
END:VEVENT
BEGIN:VEVENT
DTSTART;TZID=America/New_York:20250108T140000
DTEND;TZID=America/New_York:20250108T160000
DTSTAMP:20260421T154505
CREATED:20240914T022900Z
LAST-MODIFIED:20240914T022900Z
UID:23402-1736344800-1736352000@vcwpiedmont.com
SUMMARY:Job Corps Office Hours
DESCRIPTION:
URL:https://vcwpiedmont.com/event/job-corps-office-hours-4/
LOCATION:Career and Workforce Innovation Campus (944)\, 944 Glenwood Station Lane\, Suite 103\, Charlottesville\, VA\, 22901\, United States
ORGANIZER;CN="Brookes Sims":MAILTO:brookes.sims@fredgoodwill.org
END:VEVENT
BEGIN:VEVENT
DTSTART;TZID=America/New_York:20250108T140000
DTEND;TZID=America/New_York:20250108T160000
DTSTAMP:20260421T154505
CREATED:20250106T172047Z
LAST-MODIFIED:20250106T172047Z
UID:23684-1736344800-1736352000@vcwpiedmont.com
SUMMARY:Job Corps Informational Session
DESCRIPTION:For assistance: Email brookes.sims@fredgoodwill.org or call 434-529-6828 TDD: VA Relay Center: 711
URL:https://vcwpiedmont.com/event/job-corps-informational-session-2/
CATEGORIES:Workshops
ORGANIZER;CN="Brookes Sims RGI":MAILTO:brookes.sims@fredgoodwill.org
END:VEVENT
BEGIN:VEVENT
DTSTART;TZID=America/New_York:20250109T150000
DTEND;TZID=America/New_York:20250109T160000
DTSTAMP:20260421T154505
CREATED:20250102T184943Z
LAST-MODIFIED:20250102T184943Z
UID:23654-1736434800-1736438400@vcwpiedmont.com
SUMMARY:WIOA Orientation
DESCRIPTION:The Workforce Innovation and Opportunity Act (WIOA) Adult Program offers orientation sessions to help eligible adults find jobs through training and job search assistance: \nWhat to expect\nWIOA orientation sessions provide an overview of the program\, including the resources and benefits available to participants. \nWho is eligible\nThe WIOA Adult Program is for unemployed or underemployed adults 18 and older\, or those who are considered dislocated workers. \nWIOA offers a range of services\, including:\n\nCareer services\, such as resume assistance and interview skills\nJob search support\nTraining services\, such as occupational skills training and on-the-job training\nSupportive services\, such as help with background checks\, transportation\, and child care\n\nFor Workshop enrollment assistance: Email brookes.sims@fredgoodwill.org or call 434-529-6828 TDD: VA Relay Center: 711
URL:https://vcwpiedmont.com/event/wioa-orientation-2/
LOCATION:Virginia Career Works – Charlottesville Center\, 944 Glenwood Station Lane\, Suite 103\, Charlottesville\, VA\, 22901\, United States
CATEGORIES:WIOA Orientation
ORGANIZER;CN="Brookes Sims RGI":MAILTO:brookes.sims@fredgoodwill.org
END:VEVENT
BEGIN:VEVENT
DTSTART;TZID=America/New_York:20250114T100000
DTEND;TZID=America/New_York:20250114T120000
DTSTAMP:20260421T154505
CREATED:20250106T160029Z
LAST-MODIFIED:20250106T160029Z
UID:23669-1736848800-1736856000@vcwpiedmont.com
SUMMARY:DARS Walk-In Intake
DESCRIPTION:The Virginia Department for Aging and Rehabilitative Services (DARS) provides services to help Virginians with disabilities prepare for\, secure\, retain or regain employment and become more independent and self-sufficient.\nFor Workshop enrollment assistance: Email brookes.sims@fredgoodwill.org or call 434-529-6828 TDD: VA Relay Center: 711
URL:https://vcwpiedmont.com/event/dars-walk-in-intake-2/
CATEGORIES:Open House
ORGANIZER;CN="Brookes Sims RGI":MAILTO:brookes.sims@fredgoodwill.org
END:VEVENT
BEGIN:VEVENT
DTSTART;TZID=America/New_York:20250115T100000
DTEND;TZID=America/New_York:20250115T120000
DTSTAMP:20260421T154505
CREATED:20250106T172044Z
LAST-MODIFIED:20250106T172044Z
UID:23680-1736935200-1736942400@vcwpiedmont.com
SUMMARY:DARS Walk-In Intake
DESCRIPTION:The Virginia Department for Aging and Rehabilitative Services (DARS) provides services to help Virginians with disabilities prepare for\, secure\, retain or regain employment and become more independent and self-sufficient.\nFor Workshop enrollment assistance: Email brookes.sims@fredgoodwill.org or call 434-529-6828 TDD: VA Relay Center: 711
URL:https://vcwpiedmont.com/event/dars-walk-in-intake-6/
CATEGORIES:Open House
ORGANIZER;CN="Brookes Sims RGI":MAILTO:brookes.sims@fredgoodwill.org
END:VEVENT
BEGIN:VEVENT
DTSTART;TZID=America/New_York:20250115T100000
DTEND;TZID=America/New_York:20250115T120000
DTSTAMP:20260421T154505
CREATED:20250106T172047Z
LAST-MODIFIED:20250106T172047Z
UID:23685-1736935200-1736942400@vcwpiedmont.com
SUMMARY:Charlottesville Dept. of Social Services Drop-In Service
DESCRIPTION:For assistance: Email brookes.sims@fredgoodwill.org or call 434-529-6828 TDD: VA Relay Center: 711
URL:https://vcwpiedmont.com/event/charlottesville-dept-of-social-services-drop-in-service/
CATEGORIES:Open House
ORGANIZER;CN="Brookes Sims RGI":MAILTO:brookes.sims@fredgoodwill.org
END:VEVENT
BEGIN:VEVENT
DTSTART;TZID=America/New_York:20250116T100000
DTEND;TZID=America/New_York:20250116T140000
DTSTAMP:20260421T154505
CREATED:20250106T172102Z
LAST-MODIFIED:20250106T172102Z
UID:23686-1737021600-1737036000@vcwpiedmont.com
SUMMARY:UVA Temps Hiring Event
DESCRIPTION:For assistance: Email brookes.sims@fredgoodwill.org or call 434-529-6828 TDD: VA Relay Center: 711
URL:https://vcwpiedmont.com/event/uva-temps-hiring-event-5/
CATEGORIES:Hiring Event
ORGANIZER;CN="Brookes Sims RGI":MAILTO:brookes.sims@fredgoodwill.org
END:VEVENT
BEGIN:VEVENT
DTSTART;TZID=America/New_York:20250116T150000
DTEND;TZID=America/New_York:20250116T153000
DTSTAMP:20260421T154505
CREATED:20250102T185241Z
LAST-MODIFIED:20250102T185241Z
UID:23657-1737039600-1737041400@vcwpiedmont.com
SUMMARY:WIOA Orientation
DESCRIPTION:The Workforce Innovation and Opportunity Act (WIOA) Adult Program offers orientation sessions to help eligible adults find jobs through training and job search assistance: \nWhat to expect\nWIOA orientation sessions provide an overview of the program\, including the resources and benefits available to participants. \nWho is eligible\nThe WIOA Adult Program is for unemployed or underemployed adults 18 and older\, or those who are considered dislocated workers. \nWIOA offers a range of services\, including:\n\nCareer services\, such as resume assistance and interview skills\nJob search support\nTraining services\, such as occupational skills training and on-the-job training\nSupportive services\, such as help with background checks\, transportation\, and child care\n\nFor Workshop enrollment assistance: Email brookes.sims@fredgoodwill.org or call 434-529-6828 TDD: VA Relay Center: 711
URL:https://vcwpiedmont.com/event/wioa-orientation-3/
LOCATION:Virginia Career Works – Charlottesville Center\, 944 Glenwood Station Lane\, Suite 103\, Charlottesville\, VA\, 22901\, United States
CATEGORIES:WIOA Orientation
ORGANIZER;CN="Brookes Sims RGI":MAILTO:brookes.sims@fredgoodwill.org
END:VEVENT
BEGIN:VEVENT
DTSTART;TZID=America/New_York:20250120T000000
DTEND;TZID=America/New_York:20250120T000000
DTSTAMP:20260421T154505
CREATED:20250106T172039Z
LAST-MODIFIED:20250106T172039Z
UID:23676-1737331200-1737331200@vcwpiedmont.com
SUMMARY:CLOSED for Holiday
DESCRIPTION:
URL:https://vcwpiedmont.com/event/closed-for-holiday/
ORGANIZER;CN="Brookes Sims RGI":MAILTO:brookes.sims@fredgoodwill.org
END:VEVENT
BEGIN:VEVENT
DTSTART;TZID=America/New_York:20250121T100000
DTEND;TZID=America/New_York:20250121T120000
DTSTAMP:20260421T154505
CREATED:20250106T160041Z
LAST-MODIFIED:20250106T160041Z
UID:23670-1737453600-1737460800@vcwpiedmont.com
SUMMARY:DARS Walk-In Intake
DESCRIPTION:The Virginia Department for Aging and Rehabilitative Services (DARS) provides services to help Virginians with disabilities prepare for\, secure\, retain or regain employment and become more independent and self-sufficient.\nFor Workshop enrollment assistance: Email brookes.sims@fredgoodwill.org or call 434-529-6828 TDD: VA Relay Center: 711
URL:https://vcwpiedmont.com/event/dars-walk-in-intake-3/
CATEGORIES:Open House
ORGANIZER;CN="Brookes Sims RGI":MAILTO:brookes.sims@fredgoodwill.org
END:VEVENT
BEGIN:VEVENT
DTSTART;TZID=America/New_York:20250121T100000
DTEND;TZID=America/New_York:20250121T140000
DTSTAMP:20260421T154505
CREATED:20250106T172102Z
LAST-MODIFIED:20250106T172102Z
UID:23687-1737453600-1737468000@vcwpiedmont.com
SUMMARY:Albemarle County Public Schools Hiring Event
DESCRIPTION:For assistance: Email brookes.sims@fredgoodwill.org or call 434-529-6828 TDD: VA Relay Center: 711
URL:https://vcwpiedmont.com/event/albemarle-county-public-schools-hiring-event-5/
CATEGORIES:Hiring Event
ORGANIZER;CN="Brookes Sims RGI":MAILTO:brookes.sims@fredgoodwill.org
END:VEVENT
BEGIN:VEVENT
DTSTART;TZID=America/New_York:20250122T100000
DTEND;TZID=America/New_York:20250122T120000
DTSTAMP:20260421T154505
CREATED:20250106T172047Z
LAST-MODIFIED:20250106T172047Z
UID:23681-1737540000-1737547200@vcwpiedmont.com
SUMMARY:DARS Walk-In Intake
DESCRIPTION:The Virginia Department for Aging and Rehabilitative Services (DARS) provides services to help Virginians with disabilities prepare for\, secure\, retain or regain employment and become more independent and self-sufficient.\nFor Workshop enrollment assistance: Email brookes.sims@fredgoodwill.org or call 434-529-6828 TDD: VA Relay Center: 711
URL:https://vcwpiedmont.com/event/dars-walk-in-intake-7/
CATEGORIES:Open House
ORGANIZER;CN="Brookes Sims RGI":MAILTO:brookes.sims@fredgoodwill.org
END:VEVENT
BEGIN:VEVENT
DTSTART;TZID=America/New_York:20250122T100000
DTEND;TZID=America/New_York:20250122T140000
DTSTAMP:20260421T154505
CREATED:20250110T163055Z
LAST-MODIFIED:20250110T163055Z
UID:23858-1737540000-1737554400@vcwpiedmont.com
SUMMARY:Hiring Event: Day & Zimmermann
DESCRIPTION:Join us at VCW Charlottesville Center for the opportunity to explore various positions through Day & Zimmermann based in Mineral\, VA. They are actively seeking skilled professionals\, including: \n\nElectricians (Journeyman)\nWelders\nCrane Operators\nHelpers\n\nVeterans are highly encouraged to apply! Job listings can be found on Virginia Workforce Connection\, search for jobs located in Mineral\, VA. The tentative start date for these positions is March 3\, with a hiring process that typically takes 3-5 weeks due to background checks and drug screenings. \nDon’t miss out on this chance to advance your career! If you have any questions\, feel free to reach out. \n 
URL:https://vcwpiedmont.com/event/hiring-event-day-zimmermann/
LOCATION:Career and Workforce Innovation Campus (944)\, 944 Glenwood Station Lane\, Suite 103\, Charlottesville\, VA\, 22901\, United States
CATEGORIES:Hiring Event
ATTACH;FMTTYPE=image/png:https://vcwpiedmont.com/wp-content/uploads/DayZimmermann_012225-scaled.webp
ORGANIZER;CN="Brookes Sims RGI":MAILTO:brookes.sims@fredgoodwill.org
END:VEVENT
BEGIN:VEVENT
DTSTART;TZID=America/New_York:20250122T120000
DTEND;TZID=America/New_York:20250122T130000
DTSTAMP:20260421T154505
CREATED:20241212T175559Z
LAST-MODIFIED:20241212T175559Z
UID:23626-1737547200-1737550800@vcwpiedmont.com
SUMMARY:Building Financial Wealth Workshop Series: Budgeting & Savings
DESCRIPTION:Building Financial Wealth Workshop Series by UVA Pipelines & Pathways & New Hill Development Corporation \nUVA Pipelines & Pathways and New Hill Development Corporation are presenting a series of virtual\, interactive workshops aimed at building financial wealth. These workshops are free and open to the public\, and they will be conducted live via Zoom. \nJoin UVA Pipelines & Pathways and New Hill Development Corporation’s Operation Hope for the Building Financial Wealth Workshop Series. These virtual\, interactive workshops will equip you with essential financial knowledge\, covering topics like budgeting\, saving\, understanding credit\, and managing debt\, while also providing tools to help you build your career and achieve your dream job at UVA! \nRegistration Link: https://virginia.az1.qualtrics.com/jfe/form/SV_3konb9MeyO7MtfM \n  \nWorkshop Schedule \n\nBuilding Strong Credit\n \n\nDate: Wednesday\, December 10\, 2024\nTime: 12:00 PM – 1:00 PM\nDescription: Learn the essentials of credit\, strategies for improving it\, and practical tips for reducing debt and managing bill payments.\n\n\nBudgeting & Savings\n\nDate: Wednesday\, January 22\, 2025\nTime: 12:00 PM – 1:00 PM\nDescription: Learn budgeting basics\, the importance of saving\, and how to set realistic financial goals.\n\n\nBanking 101\n\nDate: Wednesday\, March 26\, 2025\nTime: 12:00 PM – 1:00 PM\nDescription: Learn about different types of bank accounts and how to choose and open the right financial products.\n\n\n\nAdditional Information \n\nRegistration:\n\nRegistration Link: https://virginia.az1.qualtrics.com/jfe/form/SV_3konb9MeyO7MtfM\nOnce you register\, you will receive a Zoom meeting invitation link to access each workshop on the day of the event.\n\n\nContact Information:\n\nUVA Pipelines & Pathways Website: https://jobs.virginia.edu/us/en/pipelines-pathways\nPhone: (434) 962-3996\nEmail: uvapipelines@virginia.edu\nSocial Media:\n\nFacebook: https://facebook.com/uvapipelines\nInstagram: https://instagram.com/uvapipelines\nLinkedIn: https://linkedin.com/company/uva-pipelines-pathways\n\n\nNew Hill Development Corporation: https://www.newhilldev.org\n\n\n\nPartnership \nThis workshop series is presented in partnership with New Hill Development Corporation\, an African American-led social enterprise focused on building a prosperous\, inclusive\, diverse\, and equitable community through financial coaching\, entrepreneurial support\, economic development\, and asset building. For more information\, visit New Hill Development Corporation. \nRegistration Link: https://virginia.az1.qualtrics.com/jfe/form/SV_3konb9MeyO7MtfM \n  \n 
URL:https://vcwpiedmont.com/event/building-financial-wealth-workshop-series-budgeting-savings/
CATEGORIES:Workshops
ATTACH;FMTTYPE=image/png:https://vcwpiedmont.com/wp-content/uploads/UVA-PP-Building-Financial-Wealth-Workshops-Dec_Jan_Feb.webp
ORGANIZER;CN="UVA Pipelines & Pathways":MAILTO:uvapipelines@virginia.edu
END:VEVENT
BEGIN:VEVENT
DTSTART;TZID=America/New_York:20250123T100000
DTEND;TZID=America/New_York:20250123T123000
DTSTAMP:20260421T154505
CREATED:20250107T175351Z
LAST-MODIFIED:20250107T175351Z
UID:23704-1737626400-1737635400@vcwpiedmont.com
SUMMARY:UVA Pipelines & Pathways Skill Building 101 Training Workshop
DESCRIPTION:Provides a concise overview of OSHA’s Bloodborne Pathogens standard\, focusing on preventing occupational exposure to infectious materials. Covers key safety practices\, protective measures\, and compliance procedures to ensure a safe workplace. reducing the risk of bloodborne diseases.\nFor Workshop enrollment assistance: Email brookes.sims@fredgoodwill.org or call 434-529-6828 TDD: VA Relay Center: 711\nIf you have questions or need additional information\, please contact UVA Pipelines & Pathways at uvapipelines@virginia.edu or 434-962-3996.
URL:https://vcwpiedmont.com/event/uva-pipelines-pathways-skill-building-101-training-workshop-2/
CATEGORIES:Workshops
END:VEVENT
BEGIN:VEVENT
DTSTART;TZID=America/New_York:20250123T120000
DTEND;TZID=America/New_York:20250123T133000
DTSTAMP:20260421T154505
CREATED:20250107T175426Z
LAST-MODIFIED:20250107T175426Z
UID:23718-1737633600-1737639000@vcwpiedmont.com
SUMMARY:UVA Pipelines & Pathways Career Building 101 Workshop Series
DESCRIPTION:In today’s digital landscape\, personal branding is a gamechanger for career success! Join our interactive workshop\, where we’ll delve into the art of crafting a professional online presence. You’ll learn essential skills such as professional online etiquette\, the significance of digital branding\, and the key components of a high-quality digital brand. We’ll explore strategies for showcasing your work\, creating impactful content\, and leveraging digital tools to build a strong professional brand. Discover the best social media platforms for networking and master the art of using social media to forge valuable connections. Whether you’re a job seeker\, entrepreneur\, or aspiring thought leader\, this workshop will empower you to stand out in the digital crowd and open doors to exciting opportunities.\n•	Free and Open to the Public\n•	Live via Zoom\n•	Attend Multiple Workshops\nOnce you register\, you will be emailed a Zoom meeting invitation link to access the workshop the day of the event.\nAbout the presenter: Sydney Shuler joined The Equity Center as its first communications specialist in June 2023. She came to Charlottesville in 2022 to provide well-rounded news coverage about the Charlottesville and Albemarle County communities with The Daily Progress newspaper in 2022. Since then\, she has made Charlottesville home as a mentor with the UVA Women of Color\, Honor and Ambition program. Her role at The Equity Center is focused on ensuring that the Equity Center’s message is one that aligns with and uplifts the work of its community partners.
URL:https://vcwpiedmont.com/event/uva-pipelines-pathways-career-building-101-workshop-series/
CATEGORIES:Workshops
END:VEVENT
BEGIN:VEVENT
DTSTART;TZID=America/New_York:20250123T150000
DTEND;TZID=America/New_York:20250123T153000
DTSTAMP:20260421T154505
CREATED:20250102T185529Z
LAST-MODIFIED:20250102T185529Z
UID:23659-1737644400-1737646200@vcwpiedmont.com
SUMMARY:WIOA Orientation
DESCRIPTION:The Workforce Innovation and Opportunity Act (WIOA) Adult Program offers orientation sessions to help eligible adults find jobs through training and job search assistance: \nWhat to expect\nWIOA orientation sessions provide an overview of the program\, including the resources and benefits available to participants. \nWho is eligible\nThe WIOA Adult Program is for unemployed or underemployed adults 18 and older\, or those who are considered dislocated workers. \nWIOA offers a range of services\, including:\n\nCareer services\, such as resume assistance and interview skills\nJob search support\nTraining services\, such as occupational skills training and on-the-job training\nSupportive services\, such as help with background checks\, transportation\, and child care\n\nFor Workshop enrollment assistance: Email brookes.sims@fredgoodwill.org or call 434-529-6828 TDD: VA Relay Center: 711
URL:https://vcwpiedmont.com/event/wioa-orientation-4/
LOCATION:Virginia Career Works – Charlottesville Center\, 944 Glenwood Station Lane\, Suite 103\, Charlottesville\, VA\, 22901\, United States
CATEGORIES:WIOA Orientation
ORGANIZER;CN="Brookes Sims RGI":MAILTO:brookes.sims@fredgoodwill.org
END:VEVENT
BEGIN:VEVENT
DTSTART;TZID=America/New_York:20250127T160000
DTEND;TZID=America/New_York:20250127T164500
DTSTAMP:20260421T154505
CREATED:20250107T175411Z
LAST-MODIFIED:20250107T175411Z
UID:23715-1737993600-1737996300@vcwpiedmont.com
SUMMARY:UVA Pipelines & Pathways Community Resource Information Session
DESCRIPTION:Join UVA Pipelines & Pathway’s Community Resource Navigator for this free online information session to learn about the community resources that we can connect you with as you navigate your employment journey!\nLet us help you get connected with resources such as Housing\, Transportation\, Childcare\, Training & Continued Education\, and more!\nRegister today!
URL:https://vcwpiedmont.com/event/uva-pipelines-pathways-community-resource-information-session/
CATEGORIES:Workshops
END:VEVENT
BEGIN:VEVENT
DTSTART;TZID=America/New_York:20250128T100000
DTEND;TZID=America/New_York:20250128T120000
DTSTAMP:20260421T154505
CREATED:20250106T160044Z
LAST-MODIFIED:20250106T160044Z
UID:23671-1738058400-1738065600@vcwpiedmont.com
SUMMARY:DARS Walk-In Intake
DESCRIPTION:The Virginia Department for Aging and Rehabilitative Services (DARS) provides services to help Virginians with disabilities prepare for\, secure\, retain or regain employment and become more independent and self-sufficient.\nFor Workshop enrollment assistance: Email brookes.sims@fredgoodwill.org or call 434-529-6828 TDD: VA Relay Center: 711
URL:https://vcwpiedmont.com/event/dars-walk-in-intake-4/
CATEGORIES:Open House
ORGANIZER;CN="Brookes Sims RGI":MAILTO:brookes.sims@fredgoodwill.org
END:VEVENT
BEGIN:VEVENT
DTSTART;TZID=America/New_York:20250128T100000
DTEND;TZID=America/New_York:20250128T130000
DTSTAMP:20260421T154505
CREATED:20250106T172102Z
LAST-MODIFIED:20250106T172102Z
UID:23689-1738058400-1738069200@vcwpiedmont.com
SUMMARY:UVA Pipelines & Pathways Pop Up
DESCRIPTION:Whether you need a resume\, cover letter\, or workplace readiness tips\, the UVA Pipelines & Pathways team is here to help you every step of the way. Don’t miss this opportunity to jumpstart your UVA career journey!\nThis event is free and open to the public. All are welcome! There is free parking directly in front of the building. For more information contact us at uvapipelines@virginia.edu
URL:https://vcwpiedmont.com/event/uva-pipelines-pathways-pop-up-2/
CATEGORIES:Open House
ORGANIZER;CN="Brookes Sims RGI":MAILTO:brookes.sims@fredgoodwill.org
END:VEVENT
BEGIN:VEVENT
DTSTART;TZID=America/New_York:20250129T100000
DTEND;TZID=America/New_York:20250129T120000
DTSTAMP:20260421T154505
CREATED:20250106T172047Z
LAST-MODIFIED:20250106T172047Z
UID:23682-1738144800-1738152000@vcwpiedmont.com
SUMMARY:DARS Walk-In Intake
DESCRIPTION:The Virginia Department for Aging and Rehabilitative Services (DARS) provides services to help Virginians with disabilities prepare for\, secure\, retain or regain employment and become more independent and self-sufficient.\nFor Workshop enrollment assistance: Email brookes.sims@fredgoodwill.org or call 434-529-6828 TDD: VA Relay Center: 711
URL:https://vcwpiedmont.com/event/dars-walk-in-intake-8/
CATEGORIES:Open House
ORGANIZER;CN="Brookes Sims RGI":MAILTO:brookes.sims@fredgoodwill.org
END:VEVENT
BEGIN:VEVENT
DTSTART;TZID=America/New_York:20250130T150000
DTEND;TZID=America/New_York:20250130T153000
DTSTAMP:20260421T154505
CREATED:20250102T185741Z
LAST-MODIFIED:20250102T185741Z
UID:23661-1738249200-1738251000@vcwpiedmont.com
SUMMARY:WIOA Orientation
DESCRIPTION:The Workforce Innovation and Opportunity Act (WIOA) Adult Program offers orientation sessions to help eligible adults find jobs through training and job search assistance: \nWhat to expect\nWIOA orientation sessions provide an overview of the program\, including the resources and benefits available to participants. \nWho is eligible\nThe WIOA Adult Program is for unemployed or underemployed adults 18 and older\, or those who are considered dislocated workers. \nWIOA offers a range of services\, including:\n\nCareer services\, such as resume assistance and interview skills\nJob search support\nTraining services\, such as occupational skills training and on-the-job training\nSupportive services\, such as help with background checks\, transportation\, and child care\n\nFor Workshop enrollment assistance: Email brookes.sims@fredgoodwill.org or call 434-529-6828 TDD: VA Relay Center: 711
URL:https://vcwpiedmont.com/event/wioa-orientation-5/
LOCATION:Virginia Career Works – Charlottesville Center\, 944 Glenwood Station Lane\, Suite 103\, Charlottesville\, VA\, 22901\, United States
CATEGORIES:WIOA Orientation
ORGANIZER;CN="Brookes Sims RGI":MAILTO:brookes.sims@fredgoodwill.org
END:VEVENT
BEGIN:VEVENT
DTSTART;TZID=America/New_York:20250204T100000
DTEND;TZID=America/New_York:20250204T120000
DTSTAMP:20260421T154505
CREATED:20250203T153308Z
LAST-MODIFIED:20250203T153308Z
UID:23919-1738663200-1738670400@vcwpiedmont.com
SUMMARY:DARS Walk-In Intake
DESCRIPTION:The Virginia Department for Aging and Rehabilitative Services (DARS) provides services to help Virginians with disabilities prepare for\, secure\, retain or regain employment and become more independent and self-sufficient.\nFor Workshop enrollment assistance: Email brookes.sims@fredgoodwill.org or call 434-529-6828 TDD: VA Relay Center: 711
URL:https://vcwpiedmont.com/event/dars-walk-in-intake-9/
CATEGORIES:Open House
ORGANIZER;CN="Brookes Sims RGI":MAILTO:brookes.sims@fredgoodwill.org
END:VEVENT
BEGIN:VEVENT
DTSTART;TZID=America/New_York:20250204T130000
DTEND;TZID=America/New_York:20250204T140000
DTSTAMP:20260421T154505
CREATED:20250203T153317Z
LAST-MODIFIED:20250203T153317Z
UID:23927-1738674000-1738677600@vcwpiedmont.com
SUMMARY:Virtual: Financial Literacy Workshop
DESCRIPTION:
URL:https://vcwpiedmont.com/event/virtual-financial-literacy-workshop-2/
LOCATION:Microsoft Teams
CATEGORIES:Workshops
ORGANIZER;CN="Brookes Sims RGI":MAILTO:brookes.sims@fredgoodwill.org
END:VEVENT
BEGIN:VEVENT
DTSTART;TZID=America/New_York:20250205T100000
DTEND;TZID=America/New_York:20250205T120000
DTSTAMP:20260421T154505
CREATED:20250203T153309Z
LAST-MODIFIED:20250203T153309Z
UID:23920-1738749600-1738756800@vcwpiedmont.com
SUMMARY:DARS Walk-In Intake
DESCRIPTION:The Virginia Department for Aging and Rehabilitative Services (DARS) provides services to help Virginians with disabilities prepare for\, secure\, retain or regain employment and become more independent and self-sufficient.\nFor Workshop enrollment assistance: Email brookes.sims@fredgoodwill.org or call 434-529-6828 TDD: VA Relay Center: 711
URL:https://vcwpiedmont.com/event/dars-walk-in-intake-10/
CATEGORIES:Open House
ORGANIZER;CN="Brookes Sims RGI":MAILTO:brookes.sims@fredgoodwill.org
END:VEVENT
BEGIN:VEVENT
DTSTART;TZID=America/New_York:20250205T100000
DTEND;TZID=America/New_York:20250205T120000
DTSTAMP:20260421T154505
CREATED:20250203T153317Z
LAST-MODIFIED:20250203T153317Z
UID:23928-1738749600-1738756800@vcwpiedmont.com
SUMMARY:Ready to Work/GO Programs Pop Up
DESCRIPTION:
URL:https://vcwpiedmont.com/event/ready-to-work-go-programs-pop-up-2/
CATEGORIES:Workshops
ORGANIZER;CN="Brookes Sims RGI":MAILTO:brookes.sims@fredgoodwill.org
END:VEVENT
END:VCALENDAR