BEGIN:VCALENDAR
VERSION:2.0
PRODID:-//Virginia Career Works Piedmont Region - ECPv6.15.20//NONSGML v1.0//EN
CALSCALE:GREGORIAN
METHOD:PUBLISH
X-WR-CALNAME:Virginia Career Works Piedmont Region
X-ORIGINAL-URL:https://vcwpiedmont.com
X-WR-CALDESC:Events for Virginia Career Works Piedmont Region
REFRESH-INTERVAL;VALUE=DURATION:PT1H
X-Robots-Tag:noindex
X-PUBLISHED-TTL:PT1H
BEGIN:VTIMEZONE
TZID:America/New_York
BEGIN:DAYLIGHT
TZOFFSETFROM:-0500
TZOFFSETTO:-0400
TZNAME:EDT
DTSTART:20240310T070000
END:DAYLIGHT
BEGIN:STANDARD
TZOFFSETFROM:-0400
TZOFFSETTO:-0500
TZNAME:EST
DTSTART:20241103T060000
END:STANDARD
BEGIN:DAYLIGHT
TZOFFSETFROM:-0500
TZOFFSETTO:-0400
TZNAME:EDT
DTSTART:20250309T070000
END:DAYLIGHT
BEGIN:STANDARD
TZOFFSETFROM:-0400
TZOFFSETTO:-0500
TZNAME:EST
DTSTART:20251102T060000
END:STANDARD
BEGIN:DAYLIGHT
TZOFFSETFROM:-0500
TZOFFSETTO:-0400
TZNAME:EDT
DTSTART:20260308T070000
END:DAYLIGHT
BEGIN:STANDARD
TZOFFSETFROM:-0400
TZOFFSETTO:-0500
TZNAME:EST
DTSTART:20261101T060000
END:STANDARD
END:VTIMEZONE
BEGIN:VEVENT
DTSTART;TZID=America/New_York:20250628T090000
DTEND;TZID=America/New_York:20250628T151500
DTSTAMP:20260419T075626
CREATED:20250605T135909Z
LAST-MODIFIED:20250605T182648Z
UID:24693-1751101200-1751123700@vcwpiedmont.com
SUMMARY:Literacy Volunteers Mini-Conference
DESCRIPTION:
URL:https://vcwpiedmont.com/event/literacy-volunteers-mini-conference/
LOCATION:Monticello High School\, 1400 Independence Way\, Charlottesville\, VA\, 22902\, United States
CATEGORIES:Community Event
ATTACH;FMTTYPE=image/png:https://vcwpiedmont.com/wp-content/uploads/MiniConference25Banner-scaled.webp
ORGANIZER;CN="Literacy Volunteers Charlottesville/Albemarle":MAILTO:info@literacyforall.org
END:VEVENT
END:VCALENDAR