BEGIN:VCALENDAR
VERSION:2.0
PRODID:-//Virginia Career Works Piedmont Region - ECPv6.15.20//NONSGML v1.0//EN
CALSCALE:GREGORIAN
METHOD:PUBLISH
X-WR-CALNAME:Virginia Career Works Piedmont Region
X-ORIGINAL-URL:https://vcwpiedmont.com
X-WR-CALDESC:Events for Virginia Career Works Piedmont Region
REFRESH-INTERVAL;VALUE=DURATION:PT1H
X-Robots-Tag:noindex
X-PUBLISHED-TTL:PT1H
BEGIN:VTIMEZONE
TZID:America/New_York
BEGIN:DAYLIGHT
TZOFFSETFROM:-0500
TZOFFSETTO:-0400
TZNAME:EDT
DTSTART:20250309T070000
END:DAYLIGHT
BEGIN:STANDARD
TZOFFSETFROM:-0400
TZOFFSETTO:-0500
TZNAME:EST
DTSTART:20251102T060000
END:STANDARD
BEGIN:DAYLIGHT
TZOFFSETFROM:-0500
TZOFFSETTO:-0400
TZNAME:EDT
DTSTART:20260308T070000
END:DAYLIGHT
BEGIN:STANDARD
TZOFFSETFROM:-0400
TZOFFSETTO:-0500
TZNAME:EST
DTSTART:20261101T060000
END:STANDARD
BEGIN:DAYLIGHT
TZOFFSETFROM:-0500
TZOFFSETTO:-0400
TZNAME:EDT
DTSTART:20270314T070000
END:DAYLIGHT
BEGIN:STANDARD
TZOFFSETFROM:-0400
TZOFFSETTO:-0500
TZNAME:EST
DTSTART:20271107T060000
END:STANDARD
END:VTIMEZONE
BEGIN:VEVENT
DTSTART;TZID=America/New_York:20260326T081500
DTEND;TZID=America/New_York:20260326T160000
DTSTAMP:20260421T135210
CREATED:20260319T162339Z
LAST-MODIFIED:20260319T162339Z
UID:27754-1774512900-1774540800@vcwpiedmont.com
SUMMARY:William Monroe High School: College & Career Expo
DESCRIPTION:Employers\, It’s Not Too Late!  William Monroe High School is gearing up for the College & Career Expo next Thursday\, and there’s still time for you to be part of this exciting event! \nThe Expo will run from 8:15am to 4:00pm on the campus of William Monroe High School on March 26\, 2026. Contact GCTEC Associate Principal Jesse Lamm at jlamm@greenecountyschools.com if you have any questions. \nThis is a great opportunity to connect with students\, showcase your organization\, and help inspire the next generation of the workforce.Employer Registration
URL:https://vcwpiedmont.com/event/william-monroe-high-school-college-career-expo/
LOCATION:William Monroe High School\, 254 Monroe Dr\,\, Stanardsville\, VA\, 22973\, United States
CATEGORIES:Employers,Youth/Student
ATTACH;FMTTYPE=image/png:https://vcwpiedmont.com/wp-content/uploads/WMHS_College-and-Career_032626.webp
ORGANIZER;CN="Jesse Lamm%2C GTEC Associate Principal":MAILTO:jlamm@greenecountyschools.com 
END:VEVENT
END:VCALENDAR